
BEGIN:VCALENDAR
VERSION:2.0
PRODID:-//Hyppeln - ECPv6.15.20//NONSGML v1.0//EN
CALSCALE:GREGORIAN
METHOD:PUBLISH
X-WR-CALNAME:Hyppeln
X-ORIGINAL-URL:https://hyppeln.com
X-WR-CALDESC:Händelser för Hyppeln
REFRESH-INTERVAL;VALUE=DURATION:PT1H
X-Robots-Tag:noindex
X-PUBLISHED-TTL:PT1H
BEGIN:VTIMEZONE
TZID:Europe/Stockholm
BEGIN:DAYLIGHT
TZOFFSETFROM:+0100
TZOFFSETTO:+0200
TZNAME:CEST
DTSTART:20240331T010000
END:DAYLIGHT
BEGIN:STANDARD
TZOFFSETFROM:+0200
TZOFFSETTO:+0100
TZNAME:CET
DTSTART:20241027T010000
END:STANDARD
BEGIN:DAYLIGHT
TZOFFSETFROM:+0100
TZOFFSETTO:+0200
TZNAME:CEST
DTSTART:20250330T010000
END:DAYLIGHT
BEGIN:STANDARD
TZOFFSETFROM:+0200
TZOFFSETTO:+0100
TZNAME:CET
DTSTART:20251026T010000
END:STANDARD
BEGIN:DAYLIGHT
TZOFFSETFROM:+0100
TZOFFSETTO:+0200
TZNAME:CEST
DTSTART:20260329T010000
END:DAYLIGHT
BEGIN:STANDARD
TZOFFSETFROM:+0200
TZOFFSETTO:+0100
TZNAME:CET
DTSTART:20261025T010000
END:STANDARD
BEGIN:DAYLIGHT
TZOFFSETFROM:+0100
TZOFFSETTO:+0200
TZNAME:CEST
DTSTART:20270328T010000
END:DAYLIGHT
BEGIN:STANDARD
TZOFFSETFROM:+0200
TZOFFSETTO:+0100
TZNAME:CET
DTSTART:20271031T010000
END:STANDARD
END:VTIMEZONE
BEGIN:VEVENT
DTSTART;TZID=Europe/Stockholm:20260222T150000
DTEND;TZID=Europe/Stockholm:20260222T180000
DTSTAMP:20260422T162037
CREATED:20260121T151450Z
LAST-MODIFIED:20260123T100030Z
UID:4611-1771772400-1771783200@hyppeln.com
SUMMARY:Årsmöte för Hyppelns Hamnförening
DESCRIPTION:Motioner styrelsen tillhanda senast den 8 februari\, lämnas i brevlådan vid hamnkontoret. Glöm inte att skriva under din motion!Välkomna!
URL:https://hyppeln.com/kalender/arsmote-for-hyppelns-hamnforening/
LOCATION:Församlingshemmet
END:VEVENT
BEGIN:VEVENT
DTSTART;TZID=Europe/Stockholm:20260111T145000
DTEND;TZID=Europe/Stockholm:20260111T160000
DTSTAMP:20260422T162037
CREATED:20251216T144600Z
LAST-MODIFIED:20251216T171600Z
UID:4557-1768143000-1768147200@hyppeln.com
SUMMARY:Mässa i församlingshemmet
DESCRIPTION:1 söndagen efter trettondedag jul. Rebecka Gustafsson\, Magnus Wassenius.
URL:https://hyppeln.com/kalender/massa-i-forsamlingshemmet/
ATTACH;FMTTYPE=image/jpeg:https://hyppeln.com/wp-content/uploads/2023/03/DDB4AFE4-DB4D-4A63-95FD-8C5552C32570-3823-0000009CDCD82CD3.jpeg
END:VEVENT
BEGIN:VEVENT
DTSTART;TZID=Europe/Stockholm:20251231T133000
DTEND;TZID=Europe/Stockholm:20251231T141000
DTSTAMP:20260422T162037
CREATED:20251216T144058Z
LAST-MODIFIED:20251216T171719Z
UID:4555-1767187800-1767190200@hyppeln.com
SUMMARY:Nyårsbön i församlingshemmet
DESCRIPTION:Nyårsbön i Hyppelns församlingshem. Rebecka Gustafsson\, Märta Eriksson.
URL:https://hyppeln.com/kalender/nyarsbon-i-forsamlingshemmet/
ATTACH;FMTTYPE=image/jpeg:https://hyppeln.com/wp-content/uploads/2023/03/DDB4AFE4-DB4D-4A63-95FD-8C5552C32570-3823-0000009CDCD82CD3.jpeg
END:VEVENT
BEGIN:VEVENT
DTSTART;TZID=Europe/Stockholm:20251221T145000
DTEND;TZID=Europe/Stockholm:20251221T153000
DTSTAMP:20260422T162037
CREATED:20251216T143735Z
LAST-MODIFIED:20251216T171803Z
UID:4551-1766328600-1766331000@hyppeln.com
SUMMARY:Gudstjänst i församlingshemmet
DESCRIPTION:Gudstjänst 4 söndagen i advent. Jean-Claude Marclay\, Frederic Ogéus.
URL:https://hyppeln.com/kalender/gudstjanst-i-forsamlingshemmet-2/
ATTACH;FMTTYPE=image/jpeg:https://hyppeln.com/wp-content/uploads/2023/03/DDB4AFE4-DB4D-4A63-95FD-8C5552C32570-3823-0000009CDCD82CD3.jpeg
END:VEVENT
BEGIN:VEVENT
DTSTART;TZID=Europe/Stockholm:20251026T145000
DTEND;TZID=Europe/Stockholm:20251026T170000
DTSTAMP:20260422T162037
CREATED:20251025T093658Z
LAST-MODIFIED:20251025T093700Z
UID:4546-1761490200-1761498000@hyppeln.com
SUMMARY:Gudstjänst i församlingshemmet
DESCRIPTION:Gudstjänst med nattvard i församlingshemmet. Söndag 14.50 Mässa med Rebecka Gustavsson och Zemias Abrahamsson.
URL:https://hyppeln.com/kalender/gudstjanst-i-forsamlingshemmet/
ATTACH;FMTTYPE=image/jpeg:https://hyppeln.com/wp-content/uploads/2023/03/DDB4AFE4-DB4D-4A63-95FD-8C5552C32570-3823-0000009CDCD82CD3.jpeg
END:VEVENT
BEGIN:VEVENT
DTSTART;TZID=Europe/Stockholm:20251025T193000
DTEND;TZID=Europe/Stockholm:20251025T235900
DTSTAMP:20260422T162037
CREATED:20250823T100331Z
LAST-MODIFIED:20250823T101206Z
UID:4492-1761420600-1761436740@hyppeln.com
SUMMARY:Höstspelning med MF Alex i lokalen
DESCRIPTION:Boka in lördagen den 25 oktober i din kalender. Då blir det klackarna i taket i HIK-lokalen.  \n\n\n\nHyppelns IK arrangerar höstfest/spelning med MF Alex och vi är grymt taggade!  \n\n\n\nMer detaljerad information kommer inom kort. Vi ser fram emot att se er här den 25/10
URL:https://hyppeln.com/kalender/hostspelning-med-mf-alex-i-lokalen/
ATTACH;FMTTYPE=image/jpeg:https://hyppeln.com/wp-content/uploads/2025/08/MF-Alex.jpg
END:VEVENT
BEGIN:VEVENT
DTSTART;TZID=Europe/Stockholm:20251025T193000
DTEND;TZID=Europe/Stockholm:20251025T193000
DTSTAMP:20260422T162037
CREATED:20250926T032509Z
LAST-MODIFIED:20250926T035645Z
UID:4519-1761420600-1761420600@hyppeln.com
SUMMARY:Oktoberfest med MFAlex
DESCRIPTION:Hej alla party-animals! Äntligen tillbaks – Oktoberfest i lokalen på Hyppeln!! Denna gång står MFAlex för underhållningen. Pris 350:- I entréavgiften ingår även välkomstdryck & mat. Förköp av biljetter: Boka genom att swisha till 0709 498795 Katarina Olsson (Kassör HIK). Märk din betalning med Oktoberfest + namn. Anmälan är bindande. Ta med ditt bästa humör Varmt välkomna!  \n\n\n\n/ HIK
URL:https://hyppeln.com/kalender/oktoberfest-med-mfalex/
ATTACH;FMTTYPE=image/jpeg:https://hyppeln.com/wp-content/uploads/2025/09/MFA.jpg
END:VEVENT
BEGIN:VEVENT
DTSTART;TZID=Europe/Stockholm:20251018T090000
DTEND;TZID=Europe/Stockholm:20251018T130000
DTSTAMP:20260422T162037
CREATED:20250921T150316Z
LAST-MODIFIED:20250921T150320Z
UID:4516-1760778000-1760792400@hyppeln.com
SUMMARY:Arbetsdagar i Hamnen
DESCRIPTION:Dags att göra Hamnen fin efter årets säsong. Hamnstyrelsen kallar till två arbetsdagar. 11 oktober och 18 oktober. Start 9:00. Vi håller på fram till 13:00. Klockan 14:00 bjuds det på middag vid grillbordet.
URL:https://hyppeln.com/kalender/arbetsdagar-i-hamnen-2/
ATTACH;FMTTYPE=image/jpeg:https://hyppeln.com/wp-content/uploads/2023/04/IMG_0558-2-scaled.jpeg
END:VEVENT
BEGIN:VEVENT
DTSTART;TZID=Europe/Stockholm:20251011T090000
DTEND;TZID=Europe/Stockholm:20251011T130000
DTSTAMP:20260422T162037
CREATED:20250921T150046Z
LAST-MODIFIED:20250921T150053Z
UID:4514-1760173200-1760187600@hyppeln.com
SUMMARY:Arbetsdagar i Hamnen
DESCRIPTION:Dags att göra Hamnen fin efter årets säsong. Hamnstyrelsen kallar till två arbetsdagar. 11 oktober och 18 oktober. Start 9:00. Vi håller på fram till 13:00. Klockan 14:00 bjuds det på middag vid grillbordet.
URL:https://hyppeln.com/kalender/arbetsdagar-i-hamnen/
ATTACH;FMTTYPE=image/jpeg:https://hyppeln.com/wp-content/uploads/2023/04/IMG_0558-2-scaled.jpeg
END:VEVENT
BEGIN:VEVENT
DTSTART;TZID=Europe/Stockholm:20250927T150000
DTEND;TZID=Europe/Stockholm:20250927T180000
DTSTAMP:20260422T162037
CREATED:20250905T174329Z
LAST-MODIFIED:20250905T174332Z
UID:4511-1758985200-1758996000@hyppeln.com
SUMMARY:Insamling till Världens Barn
DESCRIPTION:Insamlingen till Världens barn pågår redan för fullt i hela Öckerö kommun\, med olika aktiviteter. Och Hyppeln deltar naturligtvis även i år med lotterier\, kaffe med hembakat\, poängpromenad med mera. Välkommen till Hyppelns församlingshem 27 september. Med start 15:00.
URL:https://hyppeln.com/kalender/insamling-till-varldens-barn-2/
ATTACH;FMTTYPE=image/jpeg:https://hyppeln.com/wp-content/uploads/2025/09/DSCF3371-scaled.jpeg
END:VEVENT
BEGIN:VEVENT
DTSTART;TZID=Europe/Stockholm:20250913T100000
DTEND;TZID=Europe/Stockholm:20250913T140000
DTSTAMP:20260422T162037
CREATED:20250831T090753Z
LAST-MODIFIED:20250831T090758Z
UID:4504-1757757600-1757772000@hyppeln.com
SUMMARY:Höstens röjardag 10-14
DESCRIPTION:Den 13 september är det dags för höstens röjning och städning av vår ö och dess stränder. Vi möts vid toaletten på Sandtången. Ta gärna med lämpliga verktyg och handskar. Aktiviteten avslutas med sedvanlig grillning.Kom och var med i gemenskapen. Vi uppskattar att ni ställer upp och gör vår fina ö ännu finare! \n\n\n\nVarmt välkomna. \n\n\n\nHyppelns Samhällsförening
URL:https://hyppeln.com/kalender/hostens-rojardag-10-14/
ATTACH;FMTTYPE=image/jpeg:https://hyppeln.com/wp-content/uploads/2025/02/IMG_0785.jpeg
END:VEVENT
BEGIN:VEVENT
DTSTART;TZID=Europe/Stockholm:20250802T120000
DTEND;TZID=Europe/Stockholm:20250802T160000
DTSTAMP:20260422T162037
CREATED:20250714T204424Z
LAST-MODIFIED:20250714T205821Z
UID:4457-1754136000-1754150400@hyppeln.com
SUMMARY:Loppis på "Skolgårn" 2 augusti kl 12-16
DESCRIPTION:Hyppelns föreningar vill även detta år skapa möjlighet för alla boende på ön att delta i en gemensam loppis. Denna gång i samband med den årliga bouletävlingen lördagen den 2/8.  \n\n\n\nVi tänker i år hålla till på skolgårn som ligger i närheten av boulebanan. Borden kommer att finnas tillgängliga från kl. 11.30 och förslagsvis startar försäljningen upp vid 12 fram till 15 (eller så länge man orkar…) \n\n\n\nVarmt välkomna alla som vill sälja\, köpa eller både och!
URL:https://hyppeln.com/kalender/loppis-pa-skolgarn-2-augusti-kl-12-16/
ATTACH;FMTTYPE=image/png:https://hyppeln.com/wp-content/uploads/2025/07/Loppis-3.png
END:VEVENT
BEGIN:VEVENT
DTSTART;TZID=Europe/Stockholm:20250802T100000
DTEND;TZID=Europe/Stockholm:20250802T170000
DTSTAMP:20260422T162037
CREATED:20250511T125108Z
LAST-MODIFIED:20250511T125751Z
UID:4307-1754128800-1754154000@hyppeln.com
SUMMARY:Allan Cup – årlig Bouleturnering
DESCRIPTION:Dags för årets upplaga av Allan Cup – den största och mest prestigefyllda bouletävlingen i Göteborgs norra skärgård.
URL:https://hyppeln.com/kalender/allan-cup-arlig-bouleturnering/
ATTACH;FMTTYPE=image/jpeg:https://hyppeln.com/wp-content/uploads/2023/08/IMG_1153.jpeg
END:VEVENT
BEGIN:VEVENT
DTSTART;TZID=Europe/Stockholm:20250628T190000
DTEND;TZID=Europe/Stockholm:20250628T230000
DTSTAMP:20260422T162037
CREATED:20250601T163601Z
LAST-MODIFIED:20250601T163605Z
UID:4350-1751137200-1751151600@hyppeln.com
SUMMARY:Mer Blues på Stora Oset
DESCRIPTION:I sommar blir det dubbelt så mycket blues som vanligt på restaurang Stora Oset. Redan sista helgen i juni dyker bluesmannen Bertil Löfdahl upp. Den här gången med bandet Blue Kind.
URL:https://hyppeln.com/kalender/mer-blues-pa-stora-oset-2/
ATTACH;FMTTYPE=image/jpeg:https://hyppeln.com/wp-content/uploads/2025/06/IMG_1078.jpeg
END:VEVENT
BEGIN:VEVENT
DTSTART;TZID=Europe/Stockholm:20250627T190000
DTEND;TZID=Europe/Stockholm:20250627T230000
DTSTAMP:20260422T162037
CREATED:20250601T163321Z
LAST-MODIFIED:20250601T163323Z
UID:4347-1751050800-1751065200@hyppeln.com
SUMMARY:Mer Blues på Stora Oset
DESCRIPTION:I sommar blir det dubbelt så mycket blues som vanligt på restaurang Stora Oset. Redan sista helgen i juni dyker bluesmannen Bertil Löfdahl upp. Den här gången med bandet Blue Kind.
URL:https://hyppeln.com/kalender/mer-blues-pa-stora-oset/
ATTACH;FMTTYPE=image/jpeg:https://hyppeln.com/wp-content/uploads/2025/06/IMG_1078.jpeg
END:VEVENT
BEGIN:VEVENT
DTSTART;TZID=Europe/Stockholm:20250622T080000
DTEND;TZID=Europe/Stockholm:20250622T170000
DTSTAMP:20260422T162037
CREATED:20250622T191339Z
LAST-MODIFIED:20250622T191342Z
UID:4414-1750579200-1750611600@hyppeln.com
SUMMARY:Tack till alla Hyppelns midsommarfirare!
DESCRIPTION:Efter några intensiva dagar av glädje\, skratt\, lekar och gemenskap har lugnet nu återvänt till ön. \n\n\n\nHyppelns Idrottsklubb vill rikta ett varmt tack till alla midsommarfirare – stora som små – för ert deltagande i helgens midsommaraktiviteter.  \n\n\n\n\n\n\n\n\n\n\n\n\n\n\n\n\n\nMidsommarhelgen bjöd på strålande väder\, blomsterkransar\, glada människor och många härliga inslag: dans kring stången\, fika\, lotterier och fiskdamm\, för att nämna några. Detta känns som ett riktigt rekordår\, då det till slut fick bli tre ringar med dansande midsommarfirare runt majstången.  \n\n\n\nEtt extra tack går till våra spelemän och till Hanna\, som ledde sångerna runt midsommarstången båda dagarna. Ni gjorde ett fantastiskt jobb och skapade riktig midsommarstämning med er livemusik och sång! \n\n\n\n\n\n\n\n\n\n\n\n\n\n\n\n\n\n\n\n\n\n\n\n\n\n\n\n\n\n\n\n\n\n\n\n\n\nSolen strålade över årets ankrace\, som blev en spännande – om än inte särskilt fartfylld – final på helgens festligheter. Lilleviga fylldes till brädden av en förväntansfull storpublik! Som pricken över i:et bjöd vår speaker Mattias på ett oväntat dopp\, vilket satte extra färg på avslutningen. Grattis till alla vinnare i både ankracet och våra lotterier! \n\n\n\nVi är väldigt glada över att ni vill fira midsommar här med oss på Hyppeln. Hoppas att vi ses igen nästa år för ännu en fantastisk midsommar tillsammans. 💚🌼 \n\n\n\nMed vänliga hälsningar\,Hyppelns Idrottsklubb
URL:https://hyppeln.com/kalender/tack-till-alla-hyppelns-midsommarfirare-2/
ATTACH;FMTTYPE=image/jpeg:https://hyppeln.com/wp-content/uploads/2025/06/506762418_578333778377927_8123502715805889396_n.jpg
END:VEVENT
BEGIN:VEVENT
DTSTART;TZID=Europe/Stockholm:20250621T170000
DTEND;TZID=Europe/Stockholm:20250621T173000
DTSTAMP:20260422T162037
CREATED:20250607T125050Z
LAST-MODIFIED:20250607T125053Z
UID:4359-1750525200-1750527000@hyppeln.com
SUMMARY:Midsommarfinal - HIK:s ankrace
DESCRIPTION:
URL:https://hyppeln.com/kalender/midsommarfinal-hiks-ankrace/
ATTACH;FMTTYPE=image/jpeg:https://hyppeln.com/wp-content/uploads/2024/06/ankor.jpg
END:VEVENT
BEGIN:VEVENT
DTSTART;TZID=Europe/Stockholm:20250621T150000
DTEND;TZID=Europe/Stockholm:20250621T173000
DTSTAMP:20260422T162037
CREATED:20250607T123442Z
LAST-MODIFIED:20250607T123444Z
UID:4357-1750518000-1750527000@hyppeln.com
SUMMARY:Midsommarfirandet fortsätter...
DESCRIPTION:Aktiviteterna fortsätter på fotbollsplanen + dans kring midsommarstången. Dagen avslutas med det årliga ankracet i hamnen.  Fyra lyckliga vinnare tar hem pengapotten!
URL:https://hyppeln.com/kalender/midsommarfirandet-fortsatter/
ATTACH;FMTTYPE=image/jpeg:https://hyppeln.com/wp-content/uploads/2024/06/ankrace.jpg
END:VEVENT
BEGIN:VEVENT
DTSTART;TZID=Europe/Stockholm:20250620T093000
DTEND;TZID=Europe/Stockholm:20250620T173000
DTSTAMP:20260422T162037
CREATED:20250607T122652Z
LAST-MODIFIED:20250607T122853Z
UID:4354-1750411800-1750440600@hyppeln.com
SUMMARY:Midsommarfirande på fotbollsplanen
DESCRIPTION:Traditionsenligt midsommarfirande med sång\, musik och dans kring midsommarstången. Lotterier\, café\, fiskedamm och bollplank mm.
URL:https://hyppeln.com/kalender/midsommarfirande-pa-fotbollsplanen/
ATTACH;FMTTYPE=image/jpeg:https://hyppeln.com/wp-content/uploads/2024/06/290551720_3330643000502680_454846028538339426_n-1.jpg
END:VEVENT
BEGIN:VEVENT
DTSTART;TZID=Europe/Stockholm:20250614T180000
DTEND;TZID=Europe/Stockholm:20250614T200000
DTSTAMP:20260422T162037
CREATED:20250601T162209Z
LAST-MODIFIED:20250601T162212Z
UID:4345-1749924000-1749931200@hyppeln.com
SUMMARY:Quizkväll på Stora Oset
DESCRIPTION:Alltid lika uppskattat på restaurang Stora Oset; Quizkväll med Mattias. Boka bord på 031-789 03 03 info@storaoset.se
URL:https://hyppeln.com/kalender/quizkvall-pa-stora-oset/
ATTACH;FMTTYPE=image/jpeg:https://hyppeln.com/wp-content/uploads/2024/07/IMG_2882.jpeg
END:VEVENT
BEGIN:VEVENT
DTSTART;TZID=Europe/Stockholm:20250606T180000
DTEND;TZID=Europe/Stockholm:20250606T230000
DTSTAMP:20260422T162037
CREATED:20250601T161357Z
LAST-MODIFIED:20250601T161708Z
UID:4342-1749232800-1749250800@hyppeln.com
SUMMARY:Cornelis-hyllning på Stora Oset
DESCRIPTION:Fira Nationaldagen på restaurang Stora Oset med en hyllningskväll till Cornelis Vreeswijks ära. Niklas Carlsson spelar Cornelis låtar. Boka bord på 031-789 03 03 info@storaoset.se
URL:https://hyppeln.com/kalender/cornelis-hyllning-pa-stora-oset/
ATTACH;FMTTYPE=image/png:https://hyppeln.com/wp-content/uploads/2025/06/svenska-flaggan.png
END:VEVENT
BEGIN:VEVENT
DTSTART;TZID=Europe/Stockholm:20250524T100000
DTEND;TZID=Europe/Stockholm:20250524T140000
DTSTAMP:20260422T162037
CREATED:20250511T095535Z
LAST-MODIFIED:20250511T095539Z
UID:4299-1748080800-1748095200@hyppeln.com
SUMMARY:Visning av Fortet
DESCRIPTION:”Fortet” – militärmuseet på toppen av Hyppeln – slår upp dörrarna för allmänheten. 10.00 till 14.00 är det visning av vad som döljer sig i bergrummen. Pris: 125 kronor för vuxna. Gratis för barn under 15 år.  Läs mer om Hyppelns del i svensk militärhistoria\, och om projektet som öppnade upp de stängda rummen.
URL:https://hyppeln.com/kalender/visning-av-fortet-4/
ATTACH;FMTTYPE=image/jpeg:https://hyppeln.com/wp-content/uploads/2024/06/448701608_25817692327845205_7838659144213678190_n.jpg
END:VEVENT
BEGIN:VEVENT
DTSTART;TZID=Europe/Stockholm:20250516T170000
DTEND;TZID=Europe/Stockholm:20250516T230000
DTSTAMP:20260422T162038
CREATED:20250511T094444Z
LAST-MODIFIED:20250511T094448Z
UID:4297-1747414800-1747436400@hyppeln.com
SUMMARY:Säsongsöppning Stora Oset
DESCRIPTION:Efterlängtad öppning på en av skärgårdens mest trivsamma krogar. Stora Oset\, mitt i Hyppelns hamn\, inviger säsongen med ”husartisten” Leif ”Pedda” Pedersen. Allsång på hög volym och stämning på topp kan garanteras. Spelningen startar runt 19:00.  \n\n\n\nHär hittar du restaurangens öppettider till mitten av juni.
URL:https://hyppeln.com/kalender/sasongsoppning-stora-oset-2/
ATTACH;FMTTYPE=image/jpeg:https://hyppeln.com/wp-content/uploads/2023/07/IMG_1046-1-scaled.jpeg
END:VEVENT
BEGIN:VEVENT
DTSTART;TZID=Europe/Stockholm:20250502T100000
DTEND;TZID=Europe/Stockholm:20250502T170000
DTSTAMP:20260422T162038
CREATED:20250417T132712Z
LAST-MODIFIED:20250417T132715Z
UID:4289-1746180000-1746205200@hyppeln.com
SUMMARY:Naturguidning runt Hyppeln när nya skärgårdsleden invigs
DESCRIPTION:Göteborgs skärgårdsled utökas med de fina förbättrade slingorna på Hyppeln och Knippla.  Det firas med en inbjudan till Öppna öar. På Hyppeln håller Fortet öppet för allmän visning och Hyppelns samhällsförening erbjuder i samarbete med Walkers Naturturen en ”dubbelguidad” tur runt ön.En certifierad naturguide tar dig med genom öns säregna natur. \n\n\n\nAnmälan krävs till guidningen. Priset är 350 kronor.Läs mer och anmäl dig till den guidade turen här
URL:https://hyppeln.com/kalender/naturguidning-runt-hyppeln-nar-nya-skargardsleden-invigs/
ATTACH;FMTTYPE=image/jpeg:https://hyppeln.com/wp-content/uploads/2024/09/IMG_1701-scaled.jpeg
END:VEVENT
BEGIN:VEVENT
DTSTART;TZID=Europe/Stockholm:20250426T090000
DTEND;TZID=Europe/Stockholm:20250426T160000
DTSTAMP:20260422T162038
CREATED:20250212T120256Z
LAST-MODIFIED:20250212T120300Z
UID:4228-1745658000-1745683200@hyppeln.com
SUMMARY:Arbetsdag i Hamnen
DESCRIPTION:Vårens andra arbetsdag för hamnföreningens medlemmar äger rum 26 april. \n\n\n\nVi startar som vanligt kl 09:00. Fika med macka och kaffe runt 12:00. Arbetet håller på till 16:00. Då blir det grillning i vanlig ordning.
URL:https://hyppeln.com/kalender/arbetsdag-i-hamnen-8/
ATTACH;FMTTYPE=image/jpeg:https://hyppeln.com/wp-content/uploads/2023/04/IMG_0570-scaled.jpeg
END:VEVENT
BEGIN:VEVENT
DTSTART;TZID=Europe/Stockholm:20250421T110000
DTEND;TZID=Europe/Stockholm:20250421T123000
DTSTAMP:20260422T162038
CREATED:20250406T173341Z
LAST-MODIFIED:20250406T173646Z
UID:4276-1745233200-1745238600@hyppeln.com
SUMMARY:Poängpromenad arrangerad av Hyppelns idrottsklubb
DESCRIPTION:Hej alla glada höpplare! \n\n\n\nVi bjuder in till annnandag påsk-promenad (runt slingan) för både stora och små.Frisk luft\, kluriga frågor och fina priser utlovas! \n\n\n\nKom till idrottslokalen och anmäl dig + hämta ut din tipskupong kl.11.001-3:e pris i både vuxen/barnklassen.Anmälan kostar 50;- vuxen/30:- barn. \n\n\n\nFikaförsäljning med gott hembakat.Tipskupongen måste vara inlämnad SENAST 12.30\, då vi också annonserar ut vem som vunnit. \n\n\n\nVarmt välkomna önskar HIK
URL:https://hyppeln.com/kalender/poangpromenad-arrangerad-av-hyppelns-idrottsklubb/
ATTACH;FMTTYPE=image/jpeg:https://hyppeln.com/wp-content/uploads/2025/04/Gardslatta.jpg
END:VEVENT
BEGIN:VEVENT
DTSTART;TZID=Europe/Stockholm:20250413T150000
DTEND;TZID=Europe/Stockholm:20250413T160000
DTSTAMP:20260422T162038
CREATED:20250330T170352Z
LAST-MODIFIED:20250330T170359Z
UID:4259-1744556400-1744560000@hyppeln.com
SUMMARY:Hamnen har årsmöte
DESCRIPTION:Hamnen kallar härmed sina medlemmar till årsmöte i församlingshemmet. Varmt välkomna!
URL:https://hyppeln.com/kalender/hamnen-har-arsmote/
ATTACH;FMTTYPE=image/jpeg:https://hyppeln.com/wp-content/uploads/2025/01/IMG_0776.jpeg
END:VEVENT
BEGIN:VEVENT
DTSTART;TZID=Europe/Stockholm:20250413T110000
DTEND;TZID=Europe/Stockholm:20250413T120000
DTSTAMP:20260422T162038
CREATED:20250227T132237Z
LAST-MODIFIED:20250227T132635Z
UID:4242-1744542000-1744545600@hyppeln.com
SUMMARY:Årsmöte Hökargården
DESCRIPTION:Välkommen alla medlemmar till Hökargårdens årsstämma 2025 i Församlingshemmet. Observera\, motioner skall vara styrelsen tillhanda senast 2025-03-30 via email till \n\n\n\nhokargarden@gmail.com
URL:https://hyppeln.com/kalender/arsmote-hokargarden-2/
END:VEVENT
BEGIN:VEVENT
DTSTART;TZID=Europe/Stockholm:20250412T150000
DTEND;TZID=Europe/Stockholm:20250412T160000
DTSTAMP:20260422T162038
CREATED:20250318T131729Z
LAST-MODIFIED:20250318T163237Z
UID:4253-1744470000-1744473600@hyppeln.com
SUMMARY:Årsmöte Hyppelns Församlingshem 12 april kl 15
DESCRIPTION:Hyppelns Församlingshem kallar till årsmöte med fika och lotterier                 \n\n\n\nlördag 12 april kl 15           \n\n\n\nLokal: Församlingshemmet \n\n\n\nVälkomna \n\n\n\nStyrelsen \n\n\n\nDagordning  \n\n\n\n1. Välkommen och årsmötets öppnande \n\n\n\n2. Godkännande av årsmötets kallelse  \n\n\n\n3. Val av mötesordförande \n\n\n\n4. Val av mötessekreterare \n\n\n\n5. Val av två protokolljusterare \n\n\n\n6. Uppläsning av verksamhets-\, ekonomi- och revisionsberättelse för 2024 \n\n\n\n7. Fråga om ansvarsfrihet för styrelsen 2024 \n\n\n\n8. Val av ordförande för år 2025  \n\n\n\n9. Val av sekreterare för år 2025 \n\n\n\n10. Val av kassör för år 2025 \n\n\n\n11. Val av arbetsutskott för 2025 \n\n\n\n12. Val av valberedning 2025 \n\n\n\n13.Val av två revisorer för 2025  \n\n\n\n14.Inkomna förslag från medlemmar \n\n\n\n15.Övriga frågor
URL:https://hyppeln.com/kalender/arsmote-hyppelns-forsamlingshem-12-april-kl-15/
ATTACH;FMTTYPE=image/jpeg:https://hyppeln.com/wp-content/uploads/2025/01/IMG_0774.jpeg
END:VEVENT
BEGIN:VEVENT
DTSTART;TZID=Europe/Stockholm:20250412T090000
DTEND;TZID=Europe/Stockholm:20250412T160000
DTSTAMP:20260422T162038
CREATED:20250212T115813Z
LAST-MODIFIED:20250212T115816Z
UID:4225-1744448400-1744473600@hyppeln.com
SUMMARY:Arbetsdag i Hamnen
DESCRIPTION:Vårens arbetsdagar för hamnföreningens medlemmar äger rum 12 och 26 april. \n\n\n\nVi startar som vanligt kl 09:00. Fika med macka och kaffe runt 12:00. Arbetet håller på till 16:00. Då blir det grillning i vanlig ordning.
URL:https://hyppeln.com/kalender/arbetsdag-i-hamnen-7/
ATTACH;FMTTYPE=image/jpeg:https://hyppeln.com/wp-content/uploads/2023/04/IMG_0558-2-scaled.jpeg
END:VEVENT
END:VCALENDAR