
BEGIN:VCALENDAR
VERSION:2.0
PRODID:-//Hyppeln - ECPv6.15.20//NONSGML v1.0//EN
CALSCALE:GREGORIAN
METHOD:PUBLISH
X-WR-CALNAME:Hyppeln
X-ORIGINAL-URL:https://hyppeln.com
X-WR-CALDESC:Händelser för Hyppeln
REFRESH-INTERVAL;VALUE=DURATION:PT1H
X-Robots-Tag:noindex
X-PUBLISHED-TTL:PT1H
BEGIN:VTIMEZONE
TZID:Europe/Stockholm
BEGIN:DAYLIGHT
TZOFFSETFROM:+0100
TZOFFSETTO:+0200
TZNAME:CEST
DTSTART:20210328T010000
END:DAYLIGHT
BEGIN:STANDARD
TZOFFSETFROM:+0200
TZOFFSETTO:+0100
TZNAME:CET
DTSTART:20211031T010000
END:STANDARD
BEGIN:DAYLIGHT
TZOFFSETFROM:+0100
TZOFFSETTO:+0200
TZNAME:CEST
DTSTART:20220327T010000
END:DAYLIGHT
BEGIN:STANDARD
TZOFFSETFROM:+0200
TZOFFSETTO:+0100
TZNAME:CET
DTSTART:20221030T010000
END:STANDARD
BEGIN:DAYLIGHT
TZOFFSETFROM:+0100
TZOFFSETTO:+0200
TZNAME:CEST
DTSTART:20230326T010000
END:DAYLIGHT
BEGIN:STANDARD
TZOFFSETFROM:+0200
TZOFFSETTO:+0100
TZNAME:CET
DTSTART:20231029T010000
END:STANDARD
BEGIN:DAYLIGHT
TZOFFSETFROM:+0100
TZOFFSETTO:+0200
TZNAME:CEST
DTSTART:20240331T010000
END:DAYLIGHT
BEGIN:STANDARD
TZOFFSETFROM:+0200
TZOFFSETTO:+0100
TZNAME:CET
DTSTART:20241027T010000
END:STANDARD
END:VTIMEZONE
BEGIN:VEVENT
DTSTART;TZID=Europe/Stockholm:20230129T150000
DTEND;TZID=Europe/Stockholm:20230129T170000
DTSTAMP:20260423T021752
CREATED:20230124T192743Z
LAST-MODIFIED:20230124T192745Z
UID:2311-1675004400-1675011600@hyppeln.com
SUMMARY:Dragspel i församlingshemmet
DESCRIPTION:Välkomna att lyssna till den populäre dragspelaren Kjell Berggren. Spelar för fullsatta hus i Vallda och nu har vi på Hyppeln fått chansen. Vi bjuder på kaffe med dopp. Kl 15 i församlingshemmet söndag 29 jan.
URL:https://hyppeln.com/kalender/dragspel-i-forsamlingshemmet/
ATTACH;FMTTYPE=image/jpeg:https://hyppeln.com/wp-content/uploads/2023/01/323893137_852930725980707_3329768966731390657_n.jpeg
END:VEVENT
BEGIN:VEVENT
DTSTART;TZID=Europe/Stockholm:20221231T130000
DTEND;TZID=Europe/Stockholm:20221231T170000
DTSTAMP:20260423T021752
CREATED:20221227T140749Z
LAST-MODIFIED:20221228T184127Z
UID:2136-1672491600-1672506000@hyppeln.com
SUMMARY:Nyårsmys i Hamnen
DESCRIPTION:Ta farväl av det gamla året och önska oss alla ett Gott Nytt! Kom och värm dig med något gott vid eldkorgarna. Alla är varmt välkomna. Intäkterna går till el för att hålla fortet upplyst under vintern.
URL:https://hyppeln.com/kalender/nyarsmys-i-hamnen/
ATTACH;FMTTYPE=image/jpeg:https://hyppeln.com/wp-content/uploads/2022/12/IMG_0201.jpg
END:VEVENT
END:VCALENDAR