
BEGIN:VCALENDAR
VERSION:2.0
PRODID:-//Hyppeln - ECPv6.15.20//NONSGML v1.0//EN
CALSCALE:GREGORIAN
METHOD:PUBLISH
X-ORIGINAL-URL:https://hyppeln.com
X-WR-CALDESC:Händelser för Hyppeln
REFRESH-INTERVAL;VALUE=DURATION:PT1H
X-Robots-Tag:noindex
X-PUBLISHED-TTL:PT1H
BEGIN:VTIMEZONE
TZID:Europe/Stockholm
BEGIN:DAYLIGHT
TZOFFSETFROM:+0100
TZOFFSETTO:+0200
TZNAME:CEST
DTSTART:20230326T010000
END:DAYLIGHT
BEGIN:STANDARD
TZOFFSETFROM:+0200
TZOFFSETTO:+0100
TZNAME:CET
DTSTART:20231029T010000
END:STANDARD
BEGIN:DAYLIGHT
TZOFFSETFROM:+0100
TZOFFSETTO:+0200
TZNAME:CEST
DTSTART:20240331T010000
END:DAYLIGHT
BEGIN:STANDARD
TZOFFSETFROM:+0200
TZOFFSETTO:+0100
TZNAME:CET
DTSTART:20241027T010000
END:STANDARD
BEGIN:DAYLIGHT
TZOFFSETFROM:+0100
TZOFFSETTO:+0200
TZNAME:CEST
DTSTART:20250330T010000
END:DAYLIGHT
BEGIN:STANDARD
TZOFFSETFROM:+0200
TZOFFSETTO:+0100
TZNAME:CET
DTSTART:20251026T010000
END:STANDARD
BEGIN:DAYLIGHT
TZOFFSETFROM:+0100
TZOFFSETTO:+0200
TZNAME:CEST
DTSTART:20260329T010000
END:DAYLIGHT
BEGIN:STANDARD
TZOFFSETFROM:+0200
TZOFFSETTO:+0100
TZNAME:CET
DTSTART:20261025T010000
END:STANDARD
END:VTIMEZONE
BEGIN:VEVENT
DTSTART;TZID=Europe/Stockholm:20250606T180000
DTEND;TZID=Europe/Stockholm:20250606T230000
DTSTAMP:20260422T130432
CREATED:20250601T161357Z
LAST-MODIFIED:20250601T161708Z
UID:4342-1749232800-1749250800@hyppeln.com
SUMMARY:Cornelis-hyllning på Stora Oset
DESCRIPTION:Fira Nationaldagen på restaurang Stora Oset med en hyllningskväll till Cornelis Vreeswijks ära. Niklas Carlsson spelar Cornelis låtar. Boka bord på 031-789 03 03 info@storaoset.se
URL:https://hyppeln.com/kalender/cornelis-hyllning-pa-stora-oset/
ATTACH;FMTTYPE=image/png:https://hyppeln.com/wp-content/uploads/2025/06/svenska-flaggan.png
END:VEVENT
BEGIN:VEVENT
DTSTART;TZID=Europe/Stockholm:20250524T100000
DTEND;TZID=Europe/Stockholm:20250524T140000
DTSTAMP:20260422T130432
CREATED:20250511T095535Z
LAST-MODIFIED:20250511T095539Z
UID:4299-1748080800-1748095200@hyppeln.com
SUMMARY:Visning av Fortet
DESCRIPTION:”Fortet” – militärmuseet på toppen av Hyppeln – slår upp dörrarna för allmänheten. 10.00 till 14.00 är det visning av vad som döljer sig i bergrummen. Pris: 125 kronor för vuxna. Gratis för barn under 15 år.  Läs mer om Hyppelns del i svensk militärhistoria\, och om projektet som öppnade upp de stängda rummen.
URL:https://hyppeln.com/kalender/visning-av-fortet-4/
ATTACH;FMTTYPE=image/jpeg:https://hyppeln.com/wp-content/uploads/2024/06/448701608_25817692327845205_7838659144213678190_n.jpg
END:VEVENT
BEGIN:VEVENT
DTSTART;TZID=Europe/Stockholm:20250516T170000
DTEND;TZID=Europe/Stockholm:20250516T230000
DTSTAMP:20260422T130432
CREATED:20250511T094444Z
LAST-MODIFIED:20250511T094448Z
UID:4297-1747414800-1747436400@hyppeln.com
SUMMARY:Säsongsöppning Stora Oset
DESCRIPTION:Efterlängtad öppning på en av skärgårdens mest trivsamma krogar. Stora Oset\, mitt i Hyppelns hamn\, inviger säsongen med ”husartisten” Leif ”Pedda” Pedersen. Allsång på hög volym och stämning på topp kan garanteras. Spelningen startar runt 19:00.  \n\n\n\nHär hittar du restaurangens öppettider till mitten av juni.
URL:https://hyppeln.com/kalender/sasongsoppning-stora-oset-2/
ATTACH;FMTTYPE=image/jpeg:https://hyppeln.com/wp-content/uploads/2023/07/IMG_1046-1-scaled.jpeg
END:VEVENT
BEGIN:VEVENT
DTSTART;TZID=Europe/Stockholm:20250502T100000
DTEND;TZID=Europe/Stockholm:20250502T170000
DTSTAMP:20260422T130432
CREATED:20250417T132712Z
LAST-MODIFIED:20250417T132715Z
UID:4289-1746180000-1746205200@hyppeln.com
SUMMARY:Naturguidning runt Hyppeln när nya skärgårdsleden invigs
DESCRIPTION:Göteborgs skärgårdsled utökas med de fina förbättrade slingorna på Hyppeln och Knippla.  Det firas med en inbjudan till Öppna öar. På Hyppeln håller Fortet öppet för allmän visning och Hyppelns samhällsförening erbjuder i samarbete med Walkers Naturturen en ”dubbelguidad” tur runt ön.En certifierad naturguide tar dig med genom öns säregna natur. \n\n\n\nAnmälan krävs till guidningen. Priset är 350 kronor.Läs mer och anmäl dig till den guidade turen här
URL:https://hyppeln.com/kalender/naturguidning-runt-hyppeln-nar-nya-skargardsleden-invigs/
ATTACH;FMTTYPE=image/jpeg:https://hyppeln.com/wp-content/uploads/2024/09/IMG_1701-scaled.jpeg
END:VEVENT
BEGIN:VEVENT
DTSTART;TZID=Europe/Stockholm:20250426T090000
DTEND;TZID=Europe/Stockholm:20250426T160000
DTSTAMP:20260422T130432
CREATED:20250212T120256Z
LAST-MODIFIED:20250212T120300Z
UID:4228-1745658000-1745683200@hyppeln.com
SUMMARY:Arbetsdag i Hamnen
DESCRIPTION:Vårens andra arbetsdag för hamnföreningens medlemmar äger rum 26 april. \n\n\n\nVi startar som vanligt kl 09:00. Fika med macka och kaffe runt 12:00. Arbetet håller på till 16:00. Då blir det grillning i vanlig ordning.
URL:https://hyppeln.com/kalender/arbetsdag-i-hamnen-8/
ATTACH;FMTTYPE=image/jpeg:https://hyppeln.com/wp-content/uploads/2023/04/IMG_0570-scaled.jpeg
END:VEVENT
BEGIN:VEVENT
DTSTART;TZID=Europe/Stockholm:20250421T110000
DTEND;TZID=Europe/Stockholm:20250421T123000
DTSTAMP:20260422T130432
CREATED:20250406T173341Z
LAST-MODIFIED:20250406T173646Z
UID:4276-1745233200-1745238600@hyppeln.com
SUMMARY:Poängpromenad arrangerad av Hyppelns idrottsklubb
DESCRIPTION:Hej alla glada höpplare! \n\n\n\nVi bjuder in till annnandag påsk-promenad (runt slingan) för både stora och små.Frisk luft\, kluriga frågor och fina priser utlovas! \n\n\n\nKom till idrottslokalen och anmäl dig + hämta ut din tipskupong kl.11.001-3:e pris i både vuxen/barnklassen.Anmälan kostar 50;- vuxen/30:- barn. \n\n\n\nFikaförsäljning med gott hembakat.Tipskupongen måste vara inlämnad SENAST 12.30\, då vi också annonserar ut vem som vunnit. \n\n\n\nVarmt välkomna önskar HIK
URL:https://hyppeln.com/kalender/poangpromenad-arrangerad-av-hyppelns-idrottsklubb/
ATTACH;FMTTYPE=image/jpeg:https://hyppeln.com/wp-content/uploads/2025/04/Gardslatta.jpg
END:VEVENT
BEGIN:VEVENT
DTSTART;TZID=Europe/Stockholm:20250413T150000
DTEND;TZID=Europe/Stockholm:20250413T160000
DTSTAMP:20260422T130432
CREATED:20250330T170352Z
LAST-MODIFIED:20250330T170359Z
UID:4259-1744556400-1744560000@hyppeln.com
SUMMARY:Hamnen har årsmöte
DESCRIPTION:Hamnen kallar härmed sina medlemmar till årsmöte i församlingshemmet. Varmt välkomna!
URL:https://hyppeln.com/kalender/hamnen-har-arsmote/
ATTACH;FMTTYPE=image/jpeg:https://hyppeln.com/wp-content/uploads/2025/01/IMG_0776.jpeg
END:VEVENT
BEGIN:VEVENT
DTSTART;TZID=Europe/Stockholm:20250413T110000
DTEND;TZID=Europe/Stockholm:20250413T120000
DTSTAMP:20260422T130432
CREATED:20250227T132237Z
LAST-MODIFIED:20250227T132635Z
UID:4242-1744542000-1744545600@hyppeln.com
SUMMARY:Årsmöte Hökargården
DESCRIPTION:Välkommen alla medlemmar till Hökargårdens årsstämma 2025 i Församlingshemmet. Observera\, motioner skall vara styrelsen tillhanda senast 2025-03-30 via email till \n\n\n\nhokargarden@gmail.com
URL:https://hyppeln.com/kalender/arsmote-hokargarden-2/
END:VEVENT
BEGIN:VEVENT
DTSTART;TZID=Europe/Stockholm:20250412T150000
DTEND;TZID=Europe/Stockholm:20250412T160000
DTSTAMP:20260422T130432
CREATED:20250318T131729Z
LAST-MODIFIED:20250318T163237Z
UID:4253-1744470000-1744473600@hyppeln.com
SUMMARY:Årsmöte Hyppelns Församlingshem 12 april kl 15
DESCRIPTION:Hyppelns Församlingshem kallar till årsmöte med fika och lotterier                 \n\n\n\nlördag 12 april kl 15           \n\n\n\nLokal: Församlingshemmet \n\n\n\nVälkomna \n\n\n\nStyrelsen \n\n\n\nDagordning  \n\n\n\n1. Välkommen och årsmötets öppnande \n\n\n\n2. Godkännande av årsmötets kallelse  \n\n\n\n3. Val av mötesordförande \n\n\n\n4. Val av mötessekreterare \n\n\n\n5. Val av två protokolljusterare \n\n\n\n6. Uppläsning av verksamhets-\, ekonomi- och revisionsberättelse för 2024 \n\n\n\n7. Fråga om ansvarsfrihet för styrelsen 2024 \n\n\n\n8. Val av ordförande för år 2025  \n\n\n\n9. Val av sekreterare för år 2025 \n\n\n\n10. Val av kassör för år 2025 \n\n\n\n11. Val av arbetsutskott för 2025 \n\n\n\n12. Val av valberedning 2025 \n\n\n\n13.Val av två revisorer för 2025  \n\n\n\n14.Inkomna förslag från medlemmar \n\n\n\n15.Övriga frågor
URL:https://hyppeln.com/kalender/arsmote-hyppelns-forsamlingshem-12-april-kl-15/
ATTACH;FMTTYPE=image/jpeg:https://hyppeln.com/wp-content/uploads/2025/01/IMG_0774.jpeg
END:VEVENT
BEGIN:VEVENT
DTSTART;TZID=Europe/Stockholm:20250412T090000
DTEND;TZID=Europe/Stockholm:20250412T160000
DTSTAMP:20260422T130432
CREATED:20250212T115813Z
LAST-MODIFIED:20250212T115816Z
UID:4225-1744448400-1744473600@hyppeln.com
SUMMARY:Arbetsdag i Hamnen
DESCRIPTION:Vårens arbetsdagar för hamnföreningens medlemmar äger rum 12 och 26 april. \n\n\n\nVi startar som vanligt kl 09:00. Fika med macka och kaffe runt 12:00. Arbetet håller på till 16:00. Då blir det grillning i vanlig ordning.
URL:https://hyppeln.com/kalender/arbetsdag-i-hamnen-7/
ATTACH;FMTTYPE=image/jpeg:https://hyppeln.com/wp-content/uploads/2023/04/IMG_0558-2-scaled.jpeg
END:VEVENT
BEGIN:VEVENT
DTSTART;TZID=Europe/Stockholm:20250406T080000
DTEND;TZID=Europe/Stockholm:20250406T170000
DTSTAMP:20260422T130432
CREATED:20250406T171801Z
LAST-MODIFIED:20250406T171804Z
UID:4265-1743926400-1743958800@hyppeln.com
SUMMARY:Varmt välkomna till HIK´s poängpromenad!
DESCRIPTION:
URL:https://hyppeln.com/kalender/varmt-valkomna-till-hiks-poangpromenad/
ATTACH;FMTTYPE=image/jpeg:https://hyppeln.com/wp-content/uploads/2025/04/Gardslatta.jpg
END:VEVENT
BEGIN:VEVENT
DTSTART;TZID=Europe/Stockholm:20250315T140000
DTEND;TZID=Europe/Stockholm:20250315T153000
DTSTAMP:20260422T130432
CREATED:20250118T155307Z
LAST-MODIFIED:20250118T155309Z
UID:4146-1742047200-1742052600@hyppeln.com
SUMMARY:Årsmöten HIK och Samhällsföreningen
DESCRIPTION:Hyppelns Samhällsförening och Hyppelns IK håller årsmöten i HIK:s lokal.
URL:https://hyppeln.com/kalender/arsmoten-hik-och-samhallsforeningen/
ATTACH;FMTTYPE=image/jpeg:https://hyppeln.com/wp-content/uploads/2022/12/5D6E9875-99CE-46F6-8FA5-F20BB2AD42CD-scaled.jpeg
END:VEVENT
BEGIN:VEVENT
DTSTART;TZID=Europe/Stockholm:20241214T150000
DTEND;TZID=Europe/Stockholm:20241214T170000
DTSTAMP:20260422T130432
CREATED:20241125T193243Z
LAST-MODIFIED:20241125T195007Z
UID:4101-1734188400-1734195600@hyppeln.com
SUMMARY:Adventsfika med årgångslotterier
DESCRIPTION:Lördag den 14 december kl. 15.00-17.00 i lokalen. Vi bjuder på välkomstglögg.Fina lotterivinsterAdventsfika finns att köpa!Cskapar kommer att ha ett axplock av varor till försäljning. \n\n\n\nAlla är hjärtligt välkomna till en mysig adventseftermiddag!HIK
URL:https://hyppeln.com/kalender/adventsfika-med-argangslotterier/
ATTACH;FMTTYPE=image/jpeg:https://hyppeln.com/wp-content/uploads/2024/11/adventsfika.jpg
END:VEVENT
BEGIN:VEVENT
DTSTART;TZID=Europe/Stockholm:20241130T170000
DTEND;TZID=Europe/Stockholm:20241130T200000
DTSTAMP:20260422T130432
CREATED:20241012T140056Z
LAST-MODIFIED:20241013T133550Z
UID:4049-1732986000-1732996800@hyppeln.com
SUMMARY:Kransdekorering och adventsmys
DESCRIPTION:Varmt välkomna till vårt återkommande advents-event i samarbete med Cskapar!  \n\n\n\nEn mysig och social kväll\, då vi pyntar kransar och njuter gott tilltugg/dryck m.m. Det kommer att finnas växter och annat smått och gott till försäljning som vanligt. \n\n\n\nArr: Hyppelns idrottsklubb/Cskapar
URL:https://hyppeln.com/kalender/kransdekorering-och-adventsmys/
ATTACH;FMTTYPE=image/jpeg:https://hyppeln.com/wp-content/uploads/2024/10/binda-julkrans.jpg
END:VEVENT
BEGIN:VEVENT
DTSTART;TZID=Europe/Stockholm:20241109T183000
DTEND;TZID=Europe/Stockholm:20241110T000000
DTSTAMP:20260422T130432
CREATED:20241012T121200Z
LAST-MODIFIED:20241109T082905Z
UID:4032-1731177000-1731196800@hyppeln.com
SUMMARY:Kim Larsen-afton med Prebens drängar
DESCRIPTION:Hej alla partysugna!Ni missar väl inte höstens höjdpunkt här på Hyppeln…  \n\n\n\n\n\n\n\n\n\n\n\n\n\nHIK bjuder in till dansk pubafton i lokalen lördagen den 9 november kl 18.30. Det blir en härlig tribute-kväll till Kim Larsens ära. Livebandet ”Prebens Drängar” består av Johan Ekstedt\, Leif ”Pedda” Pedersen & Martin Corneliusson.Pris 250:-.I entréavgiften ingår även smarrigt danskt smörrebröd.Förköp av biljetter:boka genom att swisha till 0709 498795 HIK/Katarina Olsson.Märk din betalning med Pubafton + namn.Om du ej har swish så löser vi det också såklart.Anmälan är bindandeTa med ditt bästa humörVarmt välkomna!//HIK
URL:https://hyppeln.com/kalender/kim-larsen-afton-med-prebens-drangar/
ATTACH;FMTTYPE=image/png:https://hyppeln.com/wp-content/uploads/2024/10/Prebens-drangar.png
END:VEVENT
BEGIN:VEVENT
DTSTART;TZID=Europe/Stockholm:20241026T090000
DTEND;TZID=Europe/Stockholm:20241026T150000
DTSTAMP:20260422T130432
CREATED:20241012T131613Z
LAST-MODIFIED:20241012T131730Z
UID:4042-1729933200-1729954800@hyppeln.com
SUMMARY:Arbetsdag i hamnen
DESCRIPTION:Höstens arbetslördagar äger rum 19 och 26 oktober.  \n\n\n\nVi börjar som vanligt kl 09.00 och håller på till 15.00 med avbrott för macka o kaffe vid 12 tiden Grillen tänds efter kl 15.00
URL:https://hyppeln.com/kalender/arbetsdag-i-hamnen-5/
ATTACH;FMTTYPE=image/jpeg:https://hyppeln.com/wp-content/uploads/2023/04/IMG_0563-scaled.jpeg
END:VEVENT
BEGIN:VEVENT
DTSTART;TZID=Europe/Stockholm:20241019T090000
DTEND;TZID=Europe/Stockholm:20241019T150000
DTSTAMP:20260422T130432
CREATED:20241012T131926Z
LAST-MODIFIED:20241012T131928Z
UID:4046-1729328400-1729350000@hyppeln.com
SUMMARY:Arbetsdag i hamnen
DESCRIPTION:Höstens arbetslördagar äger rum 19 och 26 oktober.  \n\n\n\nVi börjar som vanligt kl 09.00 och håller på till 15.00 med avbrott för macka o kaffe vid 12 tiden Grillen tänds efter kl 15.00
URL:https://hyppeln.com/kalender/arbetsdag-i-hamnen-6/
ATTACH;FMTTYPE=image/jpeg:https://hyppeln.com/wp-content/uploads/2023/04/IMG_0563-scaled.jpeg
END:VEVENT
BEGIN:VEVENT
DTSTART;TZID=Europe/Stockholm:20240928T150000
DTEND;TZID=Europe/Stockholm:20240928T170000
DTSTAMP:20260422T130432
CREATED:20240909T164539Z
LAST-MODIFIED:20240909T164541Z
UID:3964-1727535600-1727542800@hyppeln.com
SUMMARY:Insamling till Världen Barn 28/9
DESCRIPTION:Kaffe med hembakat och poängpromenad i Församlingshemmet – stötta Världens Barn! \n\n\n\nVi bjuder in till en trevlig dag med kaffe och hembakat dopp\, poängpromenad och lotterier med fina vinster. Alla intäkter går oavkortat till Världens Barn. Ju fler som deltar\, desto mer kan vi skänka till insamlingen som pågår fram till den 5 oktober. \n\n\n\nUnder vecka 40 kommer vi även att gå runt med insamlingsbössor\, så håll utkik – vi kanske knackar på hos dig! \n\n\n\nRedan nu finns en insamlingsbössa i affären\, där du kan Swisha ditt bidrag. \n\n\n\nVår kommun brukar ha en topplacering i landet hoppas på ett nytt rekord i år – tillsammans kan vi överträffa förra årets insamling! \n\n\n\nVänliga hälsningar\,Styrelsen för Församlingshemmet
URL:https://hyppeln.com/kalender/insamling-till-varlden-barn-28-9/
ATTACH;FMTTYPE=image/png:https://hyppeln.com/wp-content/uploads/2024/09/nedladdning.png
END:VEVENT
BEGIN:VEVENT
DTSTART;TZID=Europe/Stockholm:20240914T100000
DTEND;TZID=Europe/Stockholm:20240914T140000
DTSTAMP:20260422T130432
CREATED:20240903T110453Z
LAST-MODIFIED:20240903T110455Z
UID:3933-1726308000-1726322400@hyppeln.com
SUMMARY:Den årliga höströjardagen
DESCRIPTION:Sandtången behöver en uppfräschning genom att klippas\, köra med röjsågar och att forsla bort materialet och skräpet. Ju fler starka armar desto bättre och fortare går det. Det finns även andra ställen utmed hela slingan och strandlinjen som behöver åtgärdas. \n\n\n\nDärför uppmanar vi er\, med ödmjukhet\, både kvinnor och män på Hyppeln oavsett sommarboende eller året runtboende\, kom och var med i gemenskapen\, ställ upp! Din insats gör skillnad och vår Ö blir vackrare. \n\n\n\nTag med ett glatt humör\, handskar\, sekatör\, röjsåg\, kratta\, skottkärra eller annat du tror kan vara bra. \n\n\n\nSamhällsföreningen bjuder efteråt på korv och bröd.  \n\n\n\nVi samlas kl 10 på Sandtången vid toaletten\, väl mött!
URL:https://hyppeln.com/kalender/den-arliga-hostrojardagen/
ATTACH;FMTTYPE=image/jpeg:https://hyppeln.com/wp-content/uploads/2023/09/IMG_1530-scaled.jpeg
END:VEVENT
BEGIN:VEVENT
DTSTART;TZID=Europe/Stockholm:20240907T113000
DTEND;TZID=Europe/Stockholm:20240907T140000
DTSTAMP:20260422T130432
CREATED:20240903T105910Z
LAST-MODIFIED:20240903T105916Z
UID:3930-1725708600-1725717600@hyppeln.com
SUMMARY:Visning av Hyppelns Fort
DESCRIPTION:Allmän visning av Fortet. Läs mer om det EU-finansierade projektet att öppna upp den gamla mätstationen och inreda ett militärmuseum på Hyppelns högsta topp.
URL:https://hyppeln.com/kalender/visning-av-hyppelns-fort/
ATTACH;FMTTYPE=image/jpeg:https://hyppeln.com/wp-content/uploads/2024/09/IMG_3128.jpeg
END:VEVENT
BEGIN:VEVENT
DTSTART;TZID=Europe/Stockholm:20240906T180000
DTEND;TZID=Europe/Stockholm:20240906T230000
DTSTAMP:20260422T130432
CREATED:20240721T090900Z
LAST-MODIFIED:20240721T090902Z
UID:3827-1725645600-1725663600@hyppeln.com
SUMMARY:Peter Auki på Stora Oset
DESCRIPTION:Peter Auki är tillbaka på restaurang Stora Oset på Hyppeln. Peters bakgrund bland annat från Tylösands Afterbeach och Åres Afterski är en garanti för en kväll med bra drag och härlig stämning.
URL:https://hyppeln.com/kalender/peter-auki-pa-stora-oset/
ATTACH;FMTTYPE=image/jpeg:https://hyppeln.com/wp-content/uploads/2023/07/IMG_1046-1-scaled.jpeg
END:VEVENT
BEGIN:VEVENT
DTSTART;TZID=Europe/Stockholm:20240830T200000
DTEND;TZID=Europe/Stockholm:20240830T230000
DTSTAMP:20260422T130432
CREATED:20240822T164250Z
LAST-MODIFIED:20240822T164252Z
UID:3912-1725048000-1725058800@hyppeln.com
SUMMARY:Skärgårdsspelning med Stefan & Olivia
DESCRIPTION:Bästa Far- och Dotterduon Stefan & Olivia kommer till restaurang Stora Oset på Hyppeln. Boka bord på 031-789 03 03. \n\n\n\n \n\n\n\n\nStora Oset
URL:https://hyppeln.com/kalender/skargardsspelning-med-stefan-olivia-2/
ATTACH;FMTTYPE=image/jpeg:https://hyppeln.com/wp-content/uploads/2024/08/IMG_3030.jpeg
END:VEVENT
BEGIN:VEVENT
DTSTART;TZID=Europe/Stockholm:20240816T180000
DTEND;TZID=Europe/Stockholm:20240816T230000
DTSTAMP:20260422T130432
CREATED:20240721T085540Z
LAST-MODIFIED:20240804T153353Z
UID:3813-1723831200-1723849200@hyppeln.com
SUMMARY:Stora Osets Hamnfest
DESCRIPTION:Restaurang Stora Oset arrangerar sin egen hamnfest. Med skärgårdens röjigaste partyband – Bas Edit. Det blir en garanterat en minnesvärd kväll. Obs! Åldersgräns 18. \n\n\n\nInsläpp 18:00. Entrépris 200 kronor. \n\n\n\nDet finns plats för max 200 personer. Det är inte möjligt att förboka biljett\, så det gäller att vara där i tid för att få plats på spelningen. \n\n\n\nMat och dryck till reducerade priser. En mindre meny erbjuds. \n\n\n\nUteserveringen får ett partytält och därinne kommer det att finnas en mobil bar. \n\n\n\nKvällen rundas av 01.00. \n\n\n\n– Vi vill åstadkomma en festlig stämning och göra en riktigt rolig fest för ön. 18\, hälsar arrangörerna Alexander\, Andreas och Philip.
URL:https://hyppeln.com/kalender/hyppeln-hamnfest/
ATTACH;FMTTYPE=image/jpeg:https://hyppeln.com/wp-content/uploads/2023/07/IMG_1095-scaled.jpeg
END:VEVENT
BEGIN:VEVENT
DTSTART;TZID=Europe/Stockholm:20240807T180000
DTEND;TZID=Europe/Stockholm:20240807T220000
DTSTAMP:20260422T130432
CREATED:20240721T082902Z
LAST-MODIFIED:20240721T085745Z
UID:3809-1723053600-1723068000@hyppeln.com
SUMMARY:Quiz-onsdag med Mattias
DESCRIPTION:Quiz-onsdag med Hyppelns egen Mattias Gustavsson. Kluriga frågor\, goa skratt och fina priser. Glöm inte att boka bord!
URL:https://hyppeln.com/kalender/quiz-onsdag-med-mattias-2/
ATTACH;FMTTYPE=image/jpeg:https://hyppeln.com/wp-content/uploads/2024/07/IMG_2882.jpeg
END:VEVENT
BEGIN:VEVENT
DTSTART;TZID=Europe/Stockholm:20240803T103000
DTEND;TZID=Europe/Stockholm:20240803T170000
DTSTAMP:20260422T130432
CREATED:20240626T104655Z
LAST-MODIFIED:20240626T104822Z
UID:3657-1722681000-1722704400@hyppeln.com
SUMMARY:Allan Cup - Bouletävling
DESCRIPTION:Dags för årets stora bouletävlingen\, Allan Cup på Hyppeln. \n\n\n\nBoulecupen är en drygt 30-årig tradition som startades av Hyppelns dåvarande krögare på tidigt 1990-tal. Det har blivit ett evenemang som samlar inte bara hôpplare\, utan även lockar deltagare från andra delar av Göteborgs skärgård\, och drar en glad och engagerad publik. Anmälan: se nedan.
URL:https://hyppeln.com/kalender/allan-cup-bouletavling/
ATTACH;FMTTYPE=image/jpeg:https://hyppeln.com/wp-content/uploads/2023/08/2DB2A830-4469-4795-8ED1-44B2CD8A19DD-55910-00000A0482EE8867-scaled.jpg
END:VEVENT
BEGIN:VEVENT
DTSTART;TZID=Europe/Stockholm:20240802T093000
DTEND;TZID=Europe/Stockholm:20240802T103000
DTSTAMP:20260422T130432
CREATED:20240626T213234Z
LAST-MODIFIED:20240627T135404Z
UID:3677-1722591000-1722594600@hyppeln.com
SUMMARY:Utomhusträning med Cecilia Nicoletti
DESCRIPTION:Cirkelträning på fotbollsplanen. Alla är välkomna! Anmälan dagen före senast kl 12.00. Anmälan Swish 60:- till mobilnr 0709501500
URL:https://hyppeln.com/kalender/utomhustraning-med-cecilia-nicoletti-6/
ATTACH;FMTTYPE=image/jpeg:https://hyppeln.com/wp-content/uploads/2023/05/IMG_0721.jpeg
END:VEVENT
BEGIN:VEVENT
DTSTART;TZID=Europe/Stockholm:20240731T180000
DTEND;TZID=Europe/Stockholm:20240731T220000
DTSTAMP:20260422T130432
CREATED:20240721T082730Z
LAST-MODIFIED:20240721T085855Z
UID:3807-1722448800-1722463200@hyppeln.com
SUMMARY:Quiz-onsdag med Mattias
DESCRIPTION:Quiz-onsdag med Hyppelns egen Mattias Gustavsson. Kluriga frågor\, goa skratt och fina priser. Glöm inte att boka bord!
URL:https://hyppeln.com/kalender/quiz-onsdag-med-mattias/
ATTACH;FMTTYPE=image/jpeg:https://hyppeln.com/wp-content/uploads/2024/07/IMG_2882.jpeg
END:VEVENT
BEGIN:VEVENT
DTSTART;TZID=Europe/Stockholm:20240730T090000
DTEND;TZID=Europe/Stockholm:20240730T100000
DTSTAMP:20260422T130432
CREATED:20240626T211133Z
LAST-MODIFIED:20240627T135446Z
UID:3675-1722330000-1722333600@hyppeln.com
SUMMARY:Utomhusträning med Cecilia Nicoletti
DESCRIPTION:Cirkelträning på fotbollsplanen. Alla är välkomna! Anmälan dagen innan senast kl. 12.00. Anmälan Swish 60:- till mobilnr 0709501500
URL:https://hyppeln.com/kalender/utomhustraning-med-cecilia-nicoletti-5/
ATTACH;FMTTYPE=image/jpeg:https://hyppeln.com/wp-content/uploads/2023/05/IMG_0721.jpeg
END:VEVENT
BEGIN:VEVENT
DTSTART;TZID=Europe/Stockholm:20240727T180000
DTEND;TZID=Europe/Stockholm:20240727T230000
DTSTAMP:20260422T130432
CREATED:20240706T173210Z
LAST-MODIFIED:20240721T091234Z
UID:3745-1722103200-1722121200@hyppeln.com
SUMMARY:Blueshelg på Stora Oset
DESCRIPTION:De kommer tillbaka! I år igen. Bluesambassadörerna har varit kära gäster på Stora Oset under flera år. Sista helgen i juli är det dags för dessa experter på hög stämning med hjälp av blå toner att återvända till Hyppeln. Vill du veta mer om orkestern?  Läs gärna vårt reportage från 2023.
URL:https://hyppeln.com/kalender/blueshelg-pa-stora-oset-kopia/
ATTACH;FMTTYPE=image/jpeg:https://hyppeln.com/wp-content/uploads/2024/07/IMG_1074-scaled.jpeg
END:VEVENT
BEGIN:VEVENT
DTSTART;TZID=Europe/Stockholm:20240726T180000
DTEND;TZID=Europe/Stockholm:20240726T230000
DTSTAMP:20260422T130432
CREATED:20240706T172633Z
LAST-MODIFIED:20240721T091347Z
UID:3743-1722016800-1722034800@hyppeln.com
SUMMARY:Blueshelg på Stora Oset
DESCRIPTION:De kommer tillbaka! I år igen. Bluesambassadörerna har varit kära gäster på Stora Oset under flera år. Sista helgen i juli är det dags för dessa experter på hög stämning med hjälp av blå toner att återvända till Hyppeln. Vill du veta mer om orkestern?  Läs gärna vårt reportage från 2023.
URL:https://hyppeln.com/kalender/blueshelg-pa-stora-oset/
ATTACH;FMTTYPE=image/jpeg:https://hyppeln.com/wp-content/uploads/2024/07/IMG_1082-scaled.jpeg
END:VEVENT
END:VCALENDAR