
BEGIN:VCALENDAR
VERSION:2.0
PRODID:-//Hyppeln - ECPv6.15.20//NONSGML v1.0//EN
CALSCALE:GREGORIAN
METHOD:PUBLISH
X-ORIGINAL-URL:https://hyppeln.com
X-WR-CALDESC:Händelser för Hyppeln
REFRESH-INTERVAL;VALUE=DURATION:PT1H
X-Robots-Tag:noindex
X-PUBLISHED-TTL:PT1H
BEGIN:VTIMEZONE
TZID:Europe/Stockholm
BEGIN:DAYLIGHT
TZOFFSETFROM:+0100
TZOFFSETTO:+0200
TZNAME:CEST
DTSTART:20220327T010000
END:DAYLIGHT
BEGIN:STANDARD
TZOFFSETFROM:+0200
TZOFFSETTO:+0100
TZNAME:CET
DTSTART:20221030T010000
END:STANDARD
BEGIN:DAYLIGHT
TZOFFSETFROM:+0100
TZOFFSETTO:+0200
TZNAME:CEST
DTSTART:20230326T010000
END:DAYLIGHT
BEGIN:STANDARD
TZOFFSETFROM:+0200
TZOFFSETTO:+0100
TZNAME:CET
DTSTART:20231029T010000
END:STANDARD
BEGIN:DAYLIGHT
TZOFFSETFROM:+0100
TZOFFSETTO:+0200
TZNAME:CEST
DTSTART:20240331T010000
END:DAYLIGHT
BEGIN:STANDARD
TZOFFSETFROM:+0200
TZOFFSETTO:+0100
TZNAME:CET
DTSTART:20241027T010000
END:STANDARD
BEGIN:DAYLIGHT
TZOFFSETFROM:+0100
TZOFFSETTO:+0200
TZNAME:CEST
DTSTART:20250330T010000
END:DAYLIGHT
BEGIN:STANDARD
TZOFFSETFROM:+0200
TZOFFSETTO:+0100
TZNAME:CET
DTSTART:20251026T010000
END:STANDARD
END:VTIMEZONE
BEGIN:VEVENT
DTSTART;TZID=Europe/Stockholm:20240726T093000
DTEND;TZID=Europe/Stockholm:20240726T103000
DTSTAMP:20260422T143006
CREATED:20240626T210915Z
LAST-MODIFIED:20240627T135652Z
UID:3672-1721986200-1721989800@hyppeln.com
SUMMARY:Utomhusträning med Cecilia Nicoletti
DESCRIPTION:Cirkelträning på fotbollsplanen. Alla är välkomna! Anmälan dagen innan senast kl. 12.00. Anmälan Swish 60:- till mobilnr 0709501500
URL:https://hyppeln.com/kalender/utomhustraning-med-cecilia-nicoletti-4/
ATTACH;FMTTYPE=image/jpeg:https://hyppeln.com/wp-content/uploads/2023/05/IMG_0721.jpeg
END:VEVENT
BEGIN:VEVENT
DTSTART;TZID=Europe/Stockholm:20240723T090000
DTEND;TZID=Europe/Stockholm:20240723T100000
DTSTAMP:20260422T143006
CREATED:20240626T210619Z
LAST-MODIFIED:20240627T135903Z
UID:3669-1721725200-1721728800@hyppeln.com
SUMMARY:Utomhusträning med Cecilia Nicoletti
DESCRIPTION:Cirkelträning på fotbollsplanen. Alla är välkomna! Anmälan dagen före senast kl 12.00. Anmälan Swish 60:- till mobilnr 0709501500
URL:https://hyppeln.com/kalender/utomhustraning-med-cecilia-nicoletti-3/
ATTACH;FMTTYPE=image/jpeg:https://hyppeln.com/wp-content/uploads/2023/05/IMG_0721.jpeg
END:VEVENT
BEGIN:VEVENT
DTSTART;TZID=Europe/Stockholm:20240720T170000
DTEND;TZID=Europe/Stockholm:20240720T180000
DTSTAMP:20260422T143006
CREATED:20240707T141156Z
LAST-MODIFIED:20240707T151138Z
UID:3759-1721494800-1721498400@hyppeln.com
SUMMARY:Passa på att se vår vackra ö från ovan. Rundflyg med helikopter
DESCRIPTION:Heliflight kommer tillbaka och erbjuder rundflygning för stora som små. Alla är varmt välkomna till fotbollsplanen lördagen den 20 juli kl 17.00.  \n\n\n\nIngen platsbokning\, 4–5 minuter\, 450kr pp\, Swish/kontant
URL:https://hyppeln.com/kalender/se-hyppeln-fran-ovan-rundflyg-med-helikopter/
ATTACH;FMTTYPE=image/jpeg:https://hyppeln.com/wp-content/uploads/2024/07/Helikopter-take-off.jpg
END:VEVENT
BEGIN:VEVENT
DTSTART;TZID=Europe/Stockholm:20240719T093000
DTEND;TZID=Europe/Stockholm:20240719T103000
DTSTAMP:20260422T143006
CREATED:20240626T205854Z
LAST-MODIFIED:20240627T140029Z
UID:3663-1721381400-1721385000@hyppeln.com
SUMMARY:Utomhusträning med Cecilia Nicoletti
DESCRIPTION:Cirkelträning på fotbollsplanen. Alla är välkomna! Anmälan dagen före senast kl 12.00. Anmälan Swish 60:- till mobilnr 0709501500
URL:https://hyppeln.com/kalender/utomhustraning-med-cecilia-nicoletti/
ATTACH;FMTTYPE=image/jpeg:https://hyppeln.com/wp-content/uploads/2023/05/IMG_0721.jpeg
END:VEVENT
BEGIN:VEVENT
DTSTART;TZID=Europe/Stockholm:20240717T090000
DTEND;TZID=Europe/Stockholm:20240717T100000
DTSTAMP:20260422T143006
CREATED:20240626T210251Z
LAST-MODIFIED:20240627T140346Z
UID:3666-1721206800-1721210400@hyppeln.com
SUMMARY:Utomhusträning med Cecilia Nicoletti
DESCRIPTION:Cirkelträning på fotbollsplanen. Alla är välkomna! Anmälan dagen före senast kl 12.00. Anmälan Swish 60:- till mobilnr 0709501500
URL:https://hyppeln.com/kalender/utomhustraning-med-cecilia-nicoletti-2/
ATTACH;FMTTYPE=image/jpeg:https://hyppeln.com/wp-content/uploads/2023/05/IMG_0721.jpeg
END:VEVENT
BEGIN:VEVENT
DTSTART;TZID=Europe/Stockholm:20240710T180000
DTEND;TZID=Europe/Stockholm:20240710T230000
DTSTAMP:20260422T143006
CREATED:20240705T152416Z
LAST-MODIFIED:20240705T153546Z
UID:3733-1720634400-1720652400@hyppeln.com
SUMMARY:"Pedda" tillbaka på Stora Oset
DESCRIPTION:Äntligen är det dags för Leif ”Pedda” Pedersen igen. Onsdagen 10/7 kommer ”Pedda” och fyller restaurangen med sång\, musik och god stämning. Med ”Pedda” i huset har taket en benägenhet att lyfta. Ta gärna en titt på vår video från besöket förra året! \n\n\n\nOch se till att boka ditt bord i god tid! \n\n\n\nRing 031 789 03 03 \n\n\n\nwww.storaoset.se
URL:https://hyppeln.com/kalender/pedda-tillbaka-pa-stora-oset/
ATTACH;FMTTYPE=image/jpeg:https://hyppeln.com/wp-content/uploads/2023/07/IMG_1046-1-scaled.jpeg
END:VEVENT
BEGIN:VEVENT
DTSTART;TZID=Europe/Stockholm:20240703T190000
DTEND;TZID=Europe/Stockholm:20240703T203000
DTSTAMP:20260422T143006
CREATED:20240628T095956Z
LAST-MODIFIED:20240628T095959Z
UID:3723-1720033200-1720038600@hyppeln.com
SUMMARY:Sommarmusik i Församlingshemmet
DESCRIPTION:Sommarmusik – Visor i skymningen. Thomas Enroth\, Helena Nyberg\, Magnus Wassenius\, Karolina Sandros.
URL:https://hyppeln.com/kalender/sommarmusik-i-forsamlingshemmet/
ATTACH;FMTTYPE=image/jpeg:https://hyppeln.com/wp-content/uploads/2022/11/A2B41C15-02C8-4E61-ADEC-4D7490442336-3823-0000009D1BC15E4F-scaled.jpeg
END:VEVENT
BEGIN:VEVENT
DTSTART;TZID=Europe/Stockholm:20240703T180000
DTEND;TZID=Europe/Stockholm:20240703T210000
DTSTAMP:20260422T143006
CREATED:20240627T054827Z
LAST-MODIFIED:20240627T054831Z
UID:3689-1720029600-1720040400@hyppeln.com
SUMMARY:Indisk afton
DESCRIPTION:Restaurang Stora Oset arrangerar indisk afton. Förrätt och två alternativa varmrätter\, varav en är vegetarisk\, samt tillbehör. \n\n\n\nStora Osets öppettider finns på hemsidan www.storaoset.se
URL:https://hyppeln.com/kalender/indisk-afton/
ATTACH;FMTTYPE=image/jpeg:https://hyppeln.com/wp-content/uploads/2023/03/331414733_718197793134722_3782077448265372357_n.jpeg
END:VEVENT
BEGIN:VEVENT
DTSTART;TZID=Europe/Stockholm:20240629T120000
DTEND;TZID=Europe/Stockholm:20240629T140000
DTSTAMP:20260422T143006
CREATED:20240627T060350Z
LAST-MODIFIED:20240627T060603Z
UID:3692-1719662400-1719669600@hyppeln.com
SUMMARY:Allmän visning av Fortet
DESCRIPTION:Fortet på Hyppeln öppnar dörrarna för allmän visning. Missa inte möjligheten att titta in i ett stycke svensk militärhistoria.
URL:https://hyppeln.com/kalender/allman-visning-av-fortet/
ATTACH;FMTTYPE=image/jpeg:https://hyppeln.com/wp-content/uploads/2024/06/448701608_25817692327845205_7838659144213678190_n.jpg
END:VEVENT
BEGIN:VEVENT
DTSTART;TZID=Europe/Stockholm:20240621T093000
DTEND;TZID=Europe/Stockholm:20240622T173000
DTSTAMP:20260422T143006
CREATED:20240610T180239Z
LAST-MODIFIED:20240610T180242Z
UID:3598-1718962200-1719077400@hyppeln.com
SUMMARY:Midsommarfirande på Hyppeln
DESCRIPTION:Varmt välkomna till sedvanligt midsommarfirande på Hyppeln! \n\n\n\nMidsommarafton:Kl. 9.30 – Träffas vi/barnen vid ”Skolgårn” för lövskärning. Därefter lövning av majstången på fotbollsplanen. Obs! viktigt att vi får hjälp från lövskärarna/frivilliga för att majstången ska bli ”klädd”. \n\n\n\nKl. 15.00 – 17.30 – Firande på fotbollsplanen. Lotterier\, café\, chokladhjul\, fiskdamm\, bollplank mm startar. Fina vinster i lotterierna! Skaldjur\, Paddleboard-kit mm.Kl. 16.00 – Reser vi majstången. Därefter dans kring midsommarstången för stora och små. \n\n\n\nMidsommardagen:Kl. 15.00 – 16.30 – Dans kring majstången\, café\, lotterier\, chokladhjul mm.Kl. 17.00 – Midsommarfinal! Ankrace i hamna. 1- 5 pris vinner pengapotten. \n\n\n\n \n\n\n\nVarmt välkomna önskar HIK! 
URL:https://hyppeln.com/kalender/midsommarfirande-pa-hyppeln/
ATTACH;FMTTYPE=image/jpeg:https://hyppeln.com/wp-content/uploads/2024/06/290551720_3330643000502680_454846028538339426_n.jpg
END:VEVENT
BEGIN:VEVENT
DTSTART;TZID=Europe/Stockholm:20240608T120000
DTEND;TZID=Europe/Stockholm:20240608T140000
DTSTAMP:20260422T143006
CREATED:20240603T173859Z
LAST-MODIFIED:20240603T173904Z
UID:3586-1717848000-1717855200@hyppeln.com
SUMMARY:Allmän guidad visning av Hyppelns fort
DESCRIPTION:Välkomna till guidad visning för allmänheten nu på lördag 8 juni kl 12-14!
URL:https://hyppeln.com/kalender/allman-guidad-visning-av-hyppelns-fort/
END:VEVENT
BEGIN:VEVENT
DTSTART;TZID=Europe/Stockholm:20240505T110000
DTEND;TZID=Europe/Stockholm:20240505T120000
DTSTAMP:20260422T143006
CREATED:20240411T200123Z
LAST-MODIFIED:20240411T200125Z
UID:3538-1714906800-1714910400@hyppeln.com
SUMMARY:Årsmöte Hökargården
DESCRIPTION:Årsstämma 2024 Hökargården \n\n\n\nDagordning \n\n\n\n§1 Hökargårdens Ordförande öppnar årsmötet \n\n\n\n§2 Val av ordförande vid stämman och val av protokollförare \n\n\n\n§3 Upprättande och godkännande av röstlängd \n\n\n\n§4 Val av två justeringsmän \n\n\n\n§5 Prövning om stämman blivit behörigen sammankallad \n\n\n\n§6 Godkänna förslag till dagordning \n\n\n\n§7 Framläggande av årsredovisning och revisionsberättelse \n\n\n\n§8 Beslut angående \n\n\n\na) Fastställelse av resultaträkning och balansräkning \n\n\n\nb) Dispositioner beträffande föreningens resultat enligt fastställd balansräkning \n\n\n\n§9 Ansvarsfrihet åt styrelsens ledamöter \n\n\n\n§10 Fastställande av arvoden åt styrelse och revisor \n\n\n\n§11 Behandling av motioner \n\n\n\n§12 Övriga ärenden \n\n\n\n§13 Mötet avslutas
URL:https://hyppeln.com/kalender/arsmote-hokargarden/
END:VEVENT
BEGIN:VEVENT
DTSTART;TZID=Europe/Stockholm:20240501T100000
DTEND;TZID=Europe/Stockholm:20240501T140000
DTSTAMP:20260422T143006
CREATED:20240421T180903Z
LAST-MODIFIED:20240421T180905Z
UID:3547-1714557600-1714572000@hyppeln.com
SUMMARY:Strandstädning med korvgrillning
DESCRIPTION:Den traditionsenliga strandstädningen äger rum även i år! \n\n\n\nKom och hjälp till att att göra vår ö finare efter vinterns stormar! Vi bjuder på korv. Samling vid toaletten på Sandtången. Medtag gärna kratta eller annat användbart redskap! Väl mött!
URL:https://hyppeln.com/kalender/strandstadning-med-korvgrillning/
END:VEVENT
BEGIN:VEVENT
DTSTART;TZID=Europe/Stockholm:20240323T140000
DTEND;TZID=Europe/Stockholm:20240323T160000
DTSTAMP:20260422T143006
CREATED:20240313T192043Z
LAST-MODIFIED:20240314T071922Z
UID:3440-1711202400-1711209600@hyppeln.com
SUMMARY:Få all information om den nya sophämtningen
DESCRIPTION:Vi börjar årsmötet för HIK och Samhällsföreningen kl 14 med information från Kretsloppchefen Stefan Samuelsson\, Öckerö kommun. Informationen gäller de nya EU-reglerna som gäller för sophantering. Dessa regler kommer att påverka öns invånare genom att fler kärl vid våra fastigheter kommer att sättas ut.
URL:https://hyppeln.com/kalender/fa-all-information-om-den-nya-sophamtningen/
ATTACH;FMTTYPE=image/jpeg:https://hyppeln.com/wp-content/uploads/2023/10/FEA3EED7-C699-488F-9529-52B67B6D04AD-3084-00000D32997CF17B-scaled.jpeg
END:VEVENT
BEGIN:VEVENT
DTSTART;TZID=Europe/Stockholm:20240120T150000
DTEND;TZID=Europe/Stockholm:20240120T170000
DTSTAMP:20260422T143006
CREATED:20240108T124909Z
LAST-MODIFIED:20240108T181642Z
UID:3132-1705762800-1705770000@hyppeln.com
SUMMARY:Fri entré: Kristina från Duvemåla
DESCRIPTION:Missa inte konsertversionen av Kristina från Duvemåla. Hyppelns församlingshem. Lördagen 20 januari klockan 15.00. \n\n\n\nDet är fri entré till konserten.  \n\n\n\nMedverkanden: Malin Bryngelsson\, Lena Bäcklund\, Johanna Askeroth\, Martin Wassenius\, William Wassenius\, Magnus Wassenius och Daniel Brattgård.
URL:https://hyppeln.com/kalender/konsert-kristina-fran-duvemala/
ATTACH;FMTTYPE=image/jpeg:https://hyppeln.com/wp-content/uploads/2024/01/Hyppeln-Duvemala-202430.jpg
END:VEVENT
BEGIN:VEVENT
DTSTART;TZID=Europe/Stockholm:20231216T130000
DTEND;TZID=Europe/Stockholm:20231216T160000
DTSTAMP:20260422T143006
CREATED:20231113T114729Z
LAST-MODIFIED:20231113T114731Z
UID:3112-1702731600-1702742400@hyppeln.com
SUMMARY:Fortets jul-popup i Viga
DESCRIPTION:Lördagen 16 december bjuder Fortet-gänget in till jul-uppladdning med glögg och andra godsaker. Men var inte orolig\, folk behöver inte halka upp för de branta backarna hela vägen till toppen. Den här gången kommer Fortet till Folket. \n\n\n\nTomtefar (undrar vem det kan vara?) kammar skägget\, nissarna ägnar sig åt persedelvård och den inkallade renen Rudolf tar hand om sin röda mule. \n\n\n\nSå ser uppladdningen ut inför Fortets nya tillfälliga etablering bredvid Samhällsföreningens aktivitetsplats vid Viga. \n\n\n\n16 december reser de grönklädda nissarna det gröna tältet\, sätter glöggen på värmning\, dukar fram pepparkakor och lussebullar\, och bjuder in alla Hôpplare till en stunds militärt präglad julsamvaro. \n\n\n\n– Det blir tyvärr ingen live-kör med julpsalmer i år\, men däremot ett enklare lotteri för alla vuxna\, säger Matz Rosenqvist och kliar sig lite diskret i skägget. \n\n\n\nStart 13.00.
URL:https://hyppeln.com/kalender/fortets-jul-popup-i-viga/
ATTACH;FMTTYPE=image/jpeg:https://hyppeln.com/wp-content/uploads/2023/11/IMG_2987.jpeg
END:VEVENT
BEGIN:VEVENT
DTSTART;TZID=Europe/Stockholm:20231104T090000
DTEND;TZID=Europe/Stockholm:20231104T150000
DTSTAMP:20260422T143006
CREATED:20231022T171228Z
LAST-MODIFIED:20231029T112141Z
UID:3101-1699088400-1699110000@hyppeln.com
SUMMARY:Obs\, inställd  arbetsdag i Hamnen
DESCRIPTION:Hamnföreningen ställer in den planerade extra arbetsdagen eftersom allt planerat arbete redan är utfört.
URL:https://hyppeln.com/kalender/extrainsatt-arbetsdag-i-hamnen/
ATTACH;FMTTYPE=image/jpeg:https://hyppeln.com/wp-content/uploads/2023/04/IMG_0563-scaled.jpeg
END:VEVENT
BEGIN:VEVENT
DTSTART;TZID=Europe/Stockholm:20231028T090000
DTEND;TZID=Europe/Stockholm:20231028T150000
DTSTAMP:20260422T143006
CREATED:20231001T164048Z
LAST-MODIFIED:20231002T090645Z
UID:3069-1698483600-1698505200@hyppeln.com
SUMMARY:Arbetsdag i Hamnen
DESCRIPTION:Fika med kaffe och macka vid 1200\, Grillning ca.1500 \n\n\n\nNågot av det som skall göras är bl.a.  \n\n\n\n\nBygga 4 grillbord\n\n\n\nBygga ramp till lilla flytbryggan i Viga\n\n\n\nBygga rensbord för fiskrensning\n\n\n\nReparera slukhål i asfalt på flera ställen\n\n\n\nStorstäda hygienbyggnaden\n\n\n\nAllmän röjning och underhåll av hamnens områden och byggnader\n\n\n\nInoljning av bryggor
URL:https://hyppeln.com/kalender/arbetsdag-i-hamnen-4/
ATTACH;FMTTYPE=image/jpeg:https://hyppeln.com/wp-content/uploads/2023/04/IMG_0563-scaled.jpeg
END:VEVENT
BEGIN:VEVENT
DTSTART;TZID=Europe/Stockholm:20231021T200000
DTEND;TZID=Europe/Stockholm:20231021T235900
DTSTAMP:20260422T143006
CREATED:20231001T163308Z
LAST-MODIFIED:20231001T163309Z
UID:3063-1697918400-1697932740@hyppeln.com
SUMMARY:Pubafton med livemusik i Lokalen
DESCRIPTION:
URL:https://hyppeln.com/kalender/pubafton-med-livemusik-i-lokalen/
ATTACH;FMTTYPE=image/jpeg:https://hyppeln.com/wp-content/uploads/2023/10/385728134_10161102795754485_3974641265407073736_n.jpeg
END:VEVENT
BEGIN:VEVENT
DTSTART;TZID=Europe/Stockholm:20231021T090000
DTEND;TZID=Europe/Stockholm:20231021T150000
DTSTAMP:20260422T143006
CREATED:20231001T163851Z
LAST-MODIFIED:20231018T202430Z
UID:3067-1697878800-1697900400@hyppeln.com
SUMMARY:Inställd arbetsdag i Hamnen
DESCRIPTION:Vädret sätter stopp för den den planerade arbetsdagen. Nästa tillfälle är 28 oktober. \n\n\n\n\nBygga 4 grillbord\n\n\n\nBygga ramp till lilla flytbryggan i Viga\n\n\n\nBygga rensbord för fiskrensning\n\n\n\nReparera slukhål i asfalt på flera ställen\n\n\n\nStorstäda hygienbyggnaden\n\n\n\nAllmän röjning och underhåll av hamnens områden och byggnader
URL:https://hyppeln.com/kalender/arbetsdag-i-hamnen-3/
ATTACH;FMTTYPE=image/jpeg:https://hyppeln.com/wp-content/uploads/2023/04/IMG_0563-scaled.jpeg
END:VEVENT
BEGIN:VEVENT
DTSTART;TZID=Europe/Stockholm:20231007T150000
DTEND;TZID=Europe/Stockholm:20231007T170000
DTSTAMP:20260422T143006
CREATED:20230915T124816Z
LAST-MODIFIED:20231001T170128Z
UID:3045-1696690800-1696698000@hyppeln.com
SUMMARY:Insamling till Världens Barn
DESCRIPTION:Lördag 7 oktober klockan 15 är det kaffe med dopp och lotterier i Församlingshemmet\, med insamling till förmån för Världens Barn. \n\n\n\n– Skänkta gåvor\, som hembakat\, sylt\, saft\, svamp eller varför inte några kokta humrar\, att lotta eller auktionera ut mottages tacksamt. Ju mer lotter med fina vinster som säljs\, desto mer pengar kan Hyppeln bidra med\, säger Församlingshemmets ordförande Ewa Olofsson. \n\n\n\nLäs mer om insamlingen och Hyppelns mål.
URL:https://hyppeln.com/kalender/insamling-till-varldens-barn/
ATTACH;FMTTYPE=image/jpeg:https://hyppeln.com/wp-content/uploads/2023/09/VB_STOD_Kvadrat_Beige_CMYK.jpg
END:VEVENT
BEGIN:VEVENT
DTSTART;TZID=Europe/Stockholm:20230916T100000
DTEND;TZID=Europe/Stockholm:20230916T140000
DTSTAMP:20260422T143006
CREATED:20230901T154031Z
LAST-MODIFIED:20230901T154032Z
UID:3032-1694858400-1694872800@hyppeln.com
SUMMARY:Strandstädar - & röjardag vid Sandtången
DESCRIPTION:Nu är det återigen dags att samlas för en strandstädar- och röjardag på Hyppeln. Många har säkert noterat att området runt omkring toaletten\, som under några år har varit parkliknande\, efter Arnes och Kalles tidigare röjning\, håller på att växa igen.  \n\n\n\nOmrådet behöver en uppfräschning genom att klippas\, röjas och forslas bort. Är vi ett 10-tal personer\, eller mer\, går det på några timmar.  \n\n\n\nDet finns även andra ställen utmed slingan som behöver klippas\, ansas samt att plocka upp skräp. \n\n\n\nKom och var med\, ställ upp oavsett om du är fast- eller sommarboende\, yngre eller äldre din insats är värdefull och vår Ö blir än vackrare. \n\n\n\nTa med ett glatt humör\, röjarsåg\, kratta\, skottkärra mm. \n\n\n\nSamhällsföreningen bjuder på korv och bröd.Styrelsen för Hyppelns Samhällsförening 
URL:https://hyppeln.com/kalender/strandstadar-rojardag-vid-sandtangen/
ATTACH;FMTTYPE=image/jpeg:https://hyppeln.com/wp-content/uploads/2023/09/IMG_9569-scaled.jpeg
END:VEVENT
BEGIN:VEVENT
DTSTART;TZID=Europe/Stockholm:20230903T140000
DTEND;TZID=Europe/Stockholm:20230903T160000
DTSTAMP:20260422T143006
CREATED:20230818T175753Z
LAST-MODIFIED:20230818T175927Z
UID:3009-1693749600-1693756800@hyppeln.com
SUMMARY:Invigning med grillning
DESCRIPTION:Hyppelns hamnförening rivstartar september med grillfest när den nya mötesplatsen i hamnen invigs\, med specialbyggt grillbord och ett stort matbord som är tillgängligt för alla. Platsen är ett resultat från ett projekt som finansieras med EU-medel och arbetsinsatser från föreningens medlemmar. \n\n\n\nJohn Johanneson är grillmästare och alla är välkomna. Det bjuds på korv och hamburgare.
URL:https://hyppeln.com/kalender/invigning-med-grillning/
ATTACH;FMTTYPE=image/jpeg:https://hyppeln.com/wp-content/uploads/2023/08/IMG_1290-scaled.jpeg
END:VEVENT
BEGIN:VEVENT
DTSTART;TZID=Europe/Stockholm:20230901T190000
DTEND;TZID=Europe/Stockholm:20230901T230000
DTSTAMP:20260422T143006
CREATED:20230809T163224Z
LAST-MODIFIED:20230818T175326Z
UID:2998-1693594800-1693609200@hyppeln.com
SUMMARY:Pedda på Stora Oset
DESCRIPTION:Leif ”Pedda” Pedersen är tillbaka. Stor chans att det blir allsång. Precis som förra gången. \n\n\n\nBoka bord på 031-789 03 03.
URL:https://hyppeln.com/kalender/padda-pa-stora-oset/
ATTACH;FMTTYPE=image/jpeg:https://hyppeln.com/wp-content/uploads/2023/07/IMG_1046-1-scaled.jpeg
END:VEVENT
BEGIN:VEVENT
DTSTART;TZID=Europe/Stockholm:20230826T190000
DTEND;TZID=Europe/Stockholm:20230826T230000
DTSTAMP:20260422T143006
CREATED:20230809T162850Z
LAST-MODIFIED:20230809T163319Z
UID:2996-1693076400-1693090800@hyppeln.com
SUMMARY:Blues på Stora Oset
DESCRIPTION:På allmän begäran gör Bluesambassadörerna ytterligare två spelningar på Stora Oset. Läs mer om orkestern och denna fina tradition på Hyppeln här. \n\n\n\nBoka bord på 031-789 03 03.
URL:https://hyppeln.com/kalender/blues-pa-stora-oset-2/
ATTACH;FMTTYPE=image/jpeg:https://hyppeln.com/wp-content/uploads/2023/07/IMG_6649.jpeg
END:VEVENT
BEGIN:VEVENT
DTSTART;TZID=Europe/Stockholm:20230825T190000
DTEND;TZID=Europe/Stockholm:20230825T230000
DTSTAMP:20260422T143006
CREATED:20230809T162542Z
LAST-MODIFIED:20230809T163344Z
UID:2994-1692990000-1693004400@hyppeln.com
SUMMARY:Blues på Stora Oset
DESCRIPTION:På allmän begäran gör Bluesambassadörerna ytterligare två spelningar på Stora Oset. Läs mer om orkestern och denna fina tradition på Hyppeln här. \n\n\n\nBoka bord på 031-789 03 03.
URL:https://hyppeln.com/kalender/blues-pa-stora-oset/
ATTACH;FMTTYPE=image/jpeg:https://hyppeln.com/wp-content/uploads/2023/07/IMG_6649.jpeg
END:VEVENT
BEGIN:VEVENT
DTSTART;TZID=Europe/Stockholm:20230818T190000
DTEND;TZID=Europe/Stockholm:20230818T230000
DTSTAMP:20260422T143006
CREATED:20230809T161950Z
LAST-MODIFIED:20230809T161952Z
UID:2992-1692385200-1692399600@hyppeln.com
SUMMARY:Musik på Stora Oset
DESCRIPTION:Spelning med Brandbandsroger
URL:https://hyppeln.com/kalender/musik-pa-stora-oset/
ATTACH;FMTTYPE=image/jpeg:https://hyppeln.com/wp-content/uploads/2023/07/IMG_1095-scaled.jpeg
END:VEVENT
BEGIN:VEVENT
DTSTART;TZID=Europe/Stockholm:20230804T093000
DTEND;TZID=Europe/Stockholm:20230804T103000
DTSTAMP:20260422T143006
CREATED:20230513T160110Z
LAST-MODIFIED:20230513T160112Z
UID:2747-1691141400-1691145000@hyppeln.com
SUMMARY:Utomhusträning med Cecilia
DESCRIPTION:Succén från sommaren 2022 är tillbaka. Utomhusträning med Cecilia Nicoletti på fotbollsplanen.
URL:https://hyppeln.com/kalender/utomhustraning-med-cecilia-8/
ATTACH;FMTTYPE=image/jpeg:https://hyppeln.com/wp-content/uploads/2023/05/IMG_0721.jpeg
END:VEVENT
BEGIN:VEVENT
DTSTART;TZID=Europe/Stockholm:20230801T090000
DTEND;TZID=Europe/Stockholm:20230801T100000
DTSTAMP:20260422T143006
CREATED:20230513T160002Z
LAST-MODIFIED:20230513T160003Z
UID:2745-1690880400-1690884000@hyppeln.com
SUMMARY:Utomhusträning med Cecilia
DESCRIPTION:Succén från sommaren 2022 är tillbaka. Utomhusträning med Cecilia Nicoletti på fotbollsplanen.
URL:https://hyppeln.com/kalender/utomhustraning-med-cecilia-7/
ATTACH;FMTTYPE=image/jpeg:https://hyppeln.com/wp-content/uploads/2023/05/IMG_0721.jpeg
END:VEVENT
BEGIN:VEVENT
DTSTART;TZID=Europe/Stockholm:20230729T200000
DTEND;TZID=Europe/Stockholm:20230729T233000
DTSTAMP:20260422T143006
CREATED:20230722T062025Z
LAST-MODIFIED:20230722T073847Z
UID:2953-1690660800-1690673400@hyppeln.com
SUMMARY:Blues på Hyppeln
DESCRIPTION:Det har blivit tradition nu. Tre kvällar i slutet av juli spelar Bluesambassadörerna på Stora Oset på Hyppeln. Svängig blues och soul\, med gästartister\, utlovas. \n\n\n\nBluesambassadörerna är Bertil Löfdahl\, gitarr och sång\, Bo Hansson\, orgel\, Lars Mellqvist\, bas och Roger Mörck\, trummor. \n\n\n\nBoka bord på info@storaoset.se Tel: 031 789 03 03 \n\n\n\nHär finns en intervju inför spelningarna. \n\n\n\nwww.storaoset.se
URL:https://hyppeln.com/kalender/blues-pa-hyppeln-3/
ATTACH;FMTTYPE=image/jpeg:https://hyppeln.com/wp-content/uploads/2023/07/IMG_1056-scaled.jpg
END:VEVENT
END:VCALENDAR