
BEGIN:VCALENDAR
VERSION:2.0
PRODID:-//Hyppeln - ECPv6.15.20//NONSGML v1.0//EN
CALSCALE:GREGORIAN
METHOD:PUBLISH
X-ORIGINAL-URL:https://hyppeln.com
X-WR-CALDESC:Händelser för Hyppeln
REFRESH-INTERVAL;VALUE=DURATION:PT1H
X-Robots-Tag:noindex
X-PUBLISHED-TTL:PT1H
BEGIN:VTIMEZONE
TZID:Europe/Stockholm
BEGIN:DAYLIGHT
TZOFFSETFROM:+0100
TZOFFSETTO:+0200
TZNAME:CEST
DTSTART:20220327T010000
END:DAYLIGHT
BEGIN:STANDARD
TZOFFSETFROM:+0200
TZOFFSETTO:+0100
TZNAME:CET
DTSTART:20221030T010000
END:STANDARD
BEGIN:DAYLIGHT
TZOFFSETFROM:+0100
TZOFFSETTO:+0200
TZNAME:CEST
DTSTART:20230326T010000
END:DAYLIGHT
BEGIN:STANDARD
TZOFFSETFROM:+0200
TZOFFSETTO:+0100
TZNAME:CET
DTSTART:20231029T010000
END:STANDARD
BEGIN:DAYLIGHT
TZOFFSETFROM:+0100
TZOFFSETTO:+0200
TZNAME:CEST
DTSTART:20240331T010000
END:DAYLIGHT
BEGIN:STANDARD
TZOFFSETFROM:+0200
TZOFFSETTO:+0100
TZNAME:CET
DTSTART:20241027T010000
END:STANDARD
END:VTIMEZONE
BEGIN:VEVENT
DTSTART;TZID=Europe/Stockholm:20230729T123000
DTEND;TZID=Europe/Stockholm:20230729T140000
DTSTAMP:20260422T200748
CREATED:20230423T095348Z
LAST-MODIFIED:20230615T143250Z
UID:2613-1690633800-1690639200@hyppeln.com
SUMMARY:Visning av Fortet
DESCRIPTION:”Fortet” ligger på Hyppelns högsta topp. Under sommaren öppnas den gamla militära Mätstation 5 upp för allmänheten vid åtta tillfällen. Då finns möjlighet till guidad visning 12:30 och 14:00. Läs mer om Fortet.
URL:https://hyppeln.com/kalender/visning-av-fortet-7/
ATTACH;FMTTYPE=image/jpeg:https://hyppeln.com/wp-content/uploads/2022/09/fort004.jpg
END:VEVENT
BEGIN:VEVENT
DTSTART;TZID=Europe/Stockholm:20230728T200000
DTEND;TZID=Europe/Stockholm:20230728T223000
DTSTAMP:20260422T200748
CREATED:20230722T061819Z
LAST-MODIFIED:20230722T074000Z
UID:2950-1690574400-1690583400@hyppeln.com
SUMMARY:Blues på Hyppeln
DESCRIPTION:Det har blivit tradition nu. Tre kvällar i slutet av juli spelar Bluesambassadörerna på Stora Oset på Hyppeln. Svängig blues och soul\, med gästartister\, utlovas. \n\n\n\nBluesambassadörerna är Bertil Löfdahl\, gitarr och sång\, Bo Hansson\, orgel\, Lars Mellqvist\, bas och Roger Mörck\, trummor. \n\n\n\nBoka bord på info@storaoset.se Tel: 031 789 03 03 \n\n\n\nHär finns en intervju inför spelningarna. \n\n\n\nwww.storaoset.se
URL:https://hyppeln.com/kalender/blues-pa-hyppeln-2/
ATTACH;FMTTYPE=image/jpeg:https://hyppeln.com/wp-content/uploads/2023/07/IMG_1056-scaled.jpg
END:VEVENT
BEGIN:VEVENT
DTSTART;TZID=Europe/Stockholm:20230728T093000
DTEND;TZID=Europe/Stockholm:20230728T103000
DTSTAMP:20260422T200748
CREATED:20230513T155830Z
LAST-MODIFIED:20230513T155831Z
UID:2743-1690536600-1690540200@hyppeln.com
SUMMARY:Utomhusträning med Cecilia
DESCRIPTION:Succén från sommaren 2022 är tillbaka. Utomhusträning med Cecilia Nicoletti på fotbollsplanen.
URL:https://hyppeln.com/kalender/utomhustraning-med-cecilia-6/
ATTACH;FMTTYPE=image/jpeg:https://hyppeln.com/wp-content/uploads/2023/05/IMG_0721.jpeg
END:VEVENT
BEGIN:VEVENT
DTSTART;TZID=Europe/Stockholm:20230727T200000
DTEND;TZID=Europe/Stockholm:20230727T233000
DTSTAMP:20260422T200748
CREATED:20230722T061430Z
LAST-MODIFIED:20230722T073917Z
UID:2946-1690488000-1690500600@hyppeln.com
SUMMARY:Blues på Hyppeln
DESCRIPTION:Det har blivit tradition nu. Tre kvällar i slutet av juli spelar Bluesambassadörerna på Stora Oset på Hyppeln. Svängig blues och soul\, med gästartister\, utlovas. \n\n\n\nBluesambassadörerna är Bertil Löfdahl\, gitarr och sång\, Bo Hansson\, orgel\, Lars Mellqvist\, bas och Roger Mörck\, trummor. \n\n\n\nBoka bord på info@storaoset.se Tel: 031 789 03 03 \n\n\n\nHär finns en intervju inför spelningarna. \n\n\n\nwww.storaoset.se
URL:https://hyppeln.com/kalender/blues-pa-hyppeln/
ATTACH;FMTTYPE=image/jpeg:https://hyppeln.com/wp-content/uploads/2023/07/IMG_1056-scaled.jpg
END:VEVENT
BEGIN:VEVENT
DTSTART;TZID=Europe/Stockholm:20230725T090000
DTEND;TZID=Europe/Stockholm:20230725T100000
DTSTAMP:20260422T200748
CREATED:20230513T155716Z
LAST-MODIFIED:20230513T155718Z
UID:2741-1690275600-1690279200@hyppeln.com
SUMMARY:Utomhusträning med Cecilia
DESCRIPTION:Succén från sommaren 2022 är tillbaka. Utomhusträning med Cecilia Nicoletti på fotbollsplanen.
URL:https://hyppeln.com/kalender/utomhustraning-med-cecilia-5/
ATTACH;FMTTYPE=image/jpeg:https://hyppeln.com/wp-content/uploads/2023/05/IMG_0721.jpeg
END:VEVENT
BEGIN:VEVENT
DTSTART;TZID=Europe/Stockholm:20230721T093000
DTEND;TZID=Europe/Stockholm:20230721T103000
DTSTAMP:20260422T200748
CREATED:20230513T155607Z
LAST-MODIFIED:20230513T160248Z
UID:2739-1689931800-1689935400@hyppeln.com
SUMMARY:Utomhusträning med Cecilia
DESCRIPTION:Succén från sommaren 2022 är tillbaka. Utomhusträning med Cecilia Nicoletti på fotbollsplanen.
URL:https://hyppeln.com/kalender/utomhustraning-med-cecilia-4/
ATTACH;FMTTYPE=image/jpeg:https://hyppeln.com/wp-content/uploads/2023/05/IMG_0721.jpeg
END:VEVENT
BEGIN:VEVENT
DTSTART;TZID=Europe/Stockholm:20230718T090000
DTEND;TZID=Europe/Stockholm:20230718T100000
DTSTAMP:20260422T200748
CREATED:20230513T155431Z
LAST-MODIFIED:20230513T155432Z
UID:2737-1689670800-1689674400@hyppeln.com
SUMMARY:Utomhusträning med Cecilia
DESCRIPTION:Succén från sommaren 2022 är tillbaka. Utomhusträning med Cecilia Nicoletti på fotbollsplanen.
URL:https://hyppeln.com/kalender/utomhustraning-med-cecilia-3/
ATTACH;FMTTYPE=image/jpeg:https://hyppeln.com/wp-content/uploads/2023/05/IMG_0721.jpeg
END:VEVENT
BEGIN:VEVENT
DTSTART;TZID=Europe/Stockholm:20230715T123000
DTEND;TZID=Europe/Stockholm:20230715T140000
DTSTAMP:20260422T200748
CREATED:20230423T095016Z
LAST-MODIFIED:20230615T143404Z
UID:2609-1689424200-1689429600@hyppeln.com
SUMMARY:Visning av Fortet
DESCRIPTION:”Fortet” ligger på Hyppelns högsta topp. Under sommaren öppnas den gamla militära Mätstation 5 upp för allmänheten vid åtta tillfällen. Då finns möjlighet till guidad visning 12:30 och 14:00. Läs mer om Fortet.
URL:https://hyppeln.com/kalender/visning-av-fortet-5/
ATTACH;FMTTYPE=image/jpeg:https://hyppeln.com/wp-content/uploads/2022/09/fort004.jpg
END:VEVENT
BEGIN:VEVENT
DTSTART;TZID=Europe/Stockholm:20230714T093000
DTEND;TZID=Europe/Stockholm:20230714T103000
DTSTAMP:20260422T200748
CREATED:20230513T155217Z
LAST-MODIFIED:20230513T155219Z
UID:2735-1689327000-1689330600@hyppeln.com
SUMMARY:Utomhusträning med Cecilia
DESCRIPTION:Succén från sommaren 2022 är tillbaka. Utomhusträning med Cecilia Nicoletti på fotbollsplanen.
URL:https://hyppeln.com/kalender/utomhustraning-med-cecilia-2/
ATTACH;FMTTYPE=image/jpeg:https://hyppeln.com/wp-content/uploads/2023/05/IMG_0721.jpeg
END:VEVENT
BEGIN:VEVENT
DTSTART;TZID=Europe/Stockholm:20230711T090000
DTEND;TZID=Europe/Stockholm:20230711T100000
DTSTAMP:20260422T200748
CREATED:20230513T155000Z
LAST-MODIFIED:20230513T155002Z
UID:2732-1689066000-1689069600@hyppeln.com
SUMMARY:Utomhusträning med Cecilia
DESCRIPTION:Succén från sommaren 2022 är tillbaka. Utomhusträning med Cecilia Nicoletti på fotbollsplanen.
URL:https://hyppeln.com/kalender/utomhustraning-med-cecilia/
ATTACH;FMTTYPE=image/jpeg:https://hyppeln.com/wp-content/uploads/2023/05/IMG_0721.jpeg
END:VEVENT
BEGIN:VEVENT
DTSTART;TZID=Europe/Stockholm:20230701T120000
DTEND;TZID=Europe/Stockholm:20230701T130000
DTSTAMP:20260422T200748
CREATED:20230423T094212Z
LAST-MODIFIED:20230629T185751Z
UID:2604-1688212800-1688216400@hyppeln.com
SUMMARY:Visning av Fortet
DESCRIPTION:”Fortet” ligger på Hyppelns högsta topp. Under sommaren öppnas den gamla militära Mätstation 5 upp för allmänheten vid åtta tillfällen. Då finns möjlighet till guidad visning. Start 12.00. Läs mer om Fortet.
URL:https://hyppeln.com/kalender/visning-av-fortet-3/
ATTACH;FMTTYPE=image/jpeg:https://hyppeln.com/wp-content/uploads/2022/09/fort004.jpg
END:VEVENT
BEGIN:VEVENT
DTSTART;TZID=Europe/Stockholm:20230623T093000
DTEND;TZID=Europe/Stockholm:20230624T180000
DTSTAMP:20260422T200748
CREATED:20230326T172358Z
LAST-MODIFIED:20230616T073049Z
UID:2524-1687512600-1687629600@hyppeln.com
SUMMARY:Midsommar på Hyppeln
DESCRIPTION:Varmt välkomna till sedvanligt midsommarfirande på Hyppeln.Midsommarafton:* Kl. 9.30 träffas vi/barnen vid ”Skolgårn” för lövskärning. Därefter lövning av majstången på fotbollsplanen.* Kl. 15.00 – 17.30 Firande på fotbollsplanen.Lotterier\, café\, chokladhjul\, fiskdamm\, bollplank mm startar.Fina vinster i lotterierna! Kräftor mm* Kl. 16.00 reser vi majstången. Därefter dans o musik för stora o små. Dans kring midsommarstången \n\n\n\nMidsommardagen:* Kl. 15-16.30 Dans\, café\, lotterier\, chokladhjul mmKl 17.00 Midsommarfinal! Ankrace i hamna. 1:a\, 2:a och 3:e pris vinner pengapotten. \n\n\n\nSe även evenemanget på Facebook.Varmt välkomna önskar HIK.
URL:https://hyppeln.com/kalender/midsommar-pa-hyppeln/
ATTACH;FMTTYPE=image/jpeg:https://hyppeln.com/wp-content/uploads/2022/11/BAB90FAA-4B6D-4C60-A704-B6D0E9396AD0-5394-00000910C42A3526-scaled.jpeg
END:VEVENT
BEGIN:VEVENT
DTSTART;TZID=Europe/Stockholm:20230618T145000
DTEND;TZID=Europe/Stockholm:20230618T145000
DTSTAMP:20260422T200748
CREATED:20230325T145008Z
LAST-MODIFIED:20230325T145010Z
UID:2492-1687099800-1687099800@hyppeln.com
SUMMARY:Mässa
DESCRIPTION:Jean-Claude Marclay\, kantor: Frederic Ogeus.
URL:https://hyppeln.com/kalender/massa/
ATTACH;FMTTYPE=image/jpeg:https://hyppeln.com/wp-content/uploads/2023/03/DDB4AFE4-DB4D-4A63-95FD-8C5552C32570-3823-0000009CDCD82CD3.jpeg
END:VEVENT
BEGIN:VEVENT
DTSTART;TZID=Europe/Stockholm:20230617T120000
DTEND;TZID=Europe/Stockholm:20230617T150000
DTSTAMP:20260422T200748
CREATED:20230423T093759Z
LAST-MODIFIED:20230423T093801Z
UID:2602-1687003200-1687014000@hyppeln.com
SUMMARY:Visning av Fortet
DESCRIPTION:”Fortet” ligger på Hyppelns högsta topp. Under sommaren öppnas den gamla militära Mätstation 5 upp för allmänheten vid åtta tillfällen. Då finns möjlighet till guidade visningar 12:30 och 14:00. Läs mer om Fortet.
URL:https://hyppeln.com/kalender/visning-av-fortet-2/
ATTACH;FMTTYPE=image/jpeg:https://hyppeln.com/wp-content/uploads/2022/09/fort004.jpg
END:VEVENT
BEGIN:VEVENT
DTSTART;TZID=Europe/Stockholm:20230613T143000
DTEND;TZID=Europe/Stockholm:20230613T170000
DTSTAMP:20260422T200748
CREATED:20230523T182916Z
LAST-MODIFIED:20230523T182917Z
UID:2787-1686666600-1686675600@hyppeln.com
SUMMARY:Minorna i Skagerack
DESCRIPTION:Fd marinofficeren Jan Eric Knutas föreläser om minkriget och Skagerackspärren under krigsåren. Efter föredraget arrangeras visning av Mätstation nr 5 – även kallad Fortet på Hyppeln. 14.30 i HIK:s klubblokal.
URL:https://hyppeln.com/kalender/minorna-i-skagerack/
ATTACH;FMTTYPE=image/jpeg:https://hyppeln.com/wp-content/uploads/2022/11/7061BEE2-B3C1-4FFC-B95E-BE4B68D43B35-5201-000000D6BCEE2701-scaled.jpg
END:VEVENT
BEGIN:VEVENT
DTSTART;TZID=Europe/Stockholm:20230611T110000
DTEND;TZID=Europe/Stockholm:20230611T130000
DTSTAMP:20260422T200748
CREATED:20230513T154247Z
LAST-MODIFIED:20230513T154249Z
UID:2729-1686481200-1686488400@hyppeln.com
SUMMARY:Prova på cirkelträning hos HIK
DESCRIPTION:Dags för invigning av HIK:s nya träningsredskap. Prova på cirkelträning med Cecilia Nicoletti som instruktör. Klockan 11.00. Därefter visning av träningsredskap och information om användning\, hur man får tillgång till redskapen och medlemskap. \n\n\n\nVarmt välkomna\, säger Agnes\, Matilda och HIK.
URL:https://hyppeln.com/kalender/prova-pa-cirkeltraning-hos-hik/
ATTACH;FMTTYPE=image/jpeg:https://hyppeln.com/wp-content/uploads/2023/05/IMG_0722.jpg
END:VEVENT
BEGIN:VEVENT
DTSTART;TZID=Europe/Stockholm:20230610T120000
DTEND;TZID=Europe/Stockholm:20230610T150000
DTSTAMP:20260422T200748
CREATED:20230423T093507Z
LAST-MODIFIED:20230423T093508Z
UID:2600-1686398400-1686409200@hyppeln.com
SUMMARY:Visning av Fortet
DESCRIPTION:”Fortet” ligger på Hyppelns högsta topp. Under sommaren öppnas den gamla militära Mätstation 5 upp för allmänheten vid åtta tillfällen. Då finns möjlighet till guidade visningar 12:30 och 14:00. Läs mer om Fortet.
URL:https://hyppeln.com/kalender/visning-av-fortet/
ATTACH;FMTTYPE=image/jpeg:https://hyppeln.com/wp-content/uploads/2022/09/fort004.jpg
END:VEVENT
BEGIN:VEVENT
DTSTART;TZID=Europe/Stockholm:20230603T123000
DTEND;TZID=Europe/Stockholm:20230603T133000
DTSTAMP:20260422T200748
CREATED:20230527T103022Z
LAST-MODIFIED:20230527T103023Z
UID:2811-1685795400-1685799000@hyppeln.com
SUMMARY:Infomöte om VGR-projektets resultat
DESCRIPTION:Varmt välkomna till allmänt informationsmöte i Församlingshemmet! \n\n\n\nLördag den 3 juni kl 12.30 (i direkt anslutning till- Hamnföreningens årsmöte) \n\n\n\nSamutvecklingsgruppen berättar om det nu genomförda VGR-projektet – nutid och framtid
URL:https://hyppeln.com/kalender/infomote-om-vgr-projektets-resultat/
ATTACH;FMTTYPE=image/jpeg:https://hyppeln.com/wp-content/uploads/2022/11/IMG_5181-scaled.jpeg
END:VEVENT
BEGIN:VEVENT
DTSTART;TZID=Europe/Stockholm:20230603T110000
DTEND;TZID=Europe/Stockholm:20230603T123000
DTSTAMP:20260422T200748
CREATED:20230510T081632Z
LAST-MODIFIED:20230510T081633Z
UID:2706-1685790000-1685795400@hyppeln.com
SUMMARY:Årsmöte i hamnföreningen
DESCRIPTION:Hyppelns Fiskehamnsförening kallar till årsmöte 3 juni kl 11.00 i Församlingshemmet.  \n\n\n\nMotioner ska vara föreningen tillhanda senast 2 juni klockan 18.00. De lämnas i föreningens brevlåda vid hamnkontoret. \n\n\n\nAlla varmt välkomna!
URL:https://hyppeln.com/kalender/arsmote-i-hamnforeningen/
ATTACH;FMTTYPE=image/jpeg:https://hyppeln.com/wp-content/uploads/2023/05/stallplatser.jpg
END:VEVENT
BEGIN:VEVENT
DTSTART;TZID=Europe/Stockholm:20230531T180000
DTEND;TZID=Europe/Stockholm:20230531T200000
DTSTAMP:20260422T200748
CREATED:20230404T161813Z
LAST-MODIFIED:20230404T161815Z
UID:2553-1685556000-1685563200@hyppeln.com
SUMMARY:Kommundialog på Nimbus
DESCRIPTION:Den 31 maj kl.18.00 är det kommundialog på Nimbus (stora hallen) där du som kommuninvånare får möjlighet att möta politiker och tjänstemän. Öckerö kommun bjuder på fika. \n\n\n\nAgenda\n\n\n\n\nPÅ GÅNG I ÖCKERÖ KOMMUN\n\n\n\nCIVILT FÖRSVAR OCH KRISBEREDSKAP\n\n\n\n\nVälkommen! \n\n\n\nAnmälan görs till anders.lundgren@ockero.se
URL:https://hyppeln.com/kalender/kommundialog-pa-nimbus/
ATTACH;FMTTYPE=image/jpeg:https://hyppeln.com/wp-content/uploads/2022/11/favicon-2.jpg
END:VEVENT
BEGIN:VEVENT
DTSTART;TZID=Europe/Stockholm:20230527T100000
DTEND;TZID=Europe/Stockholm:20230527T140000
DTSTAMP:20260422T200748
CREATED:20230509T130928Z
LAST-MODIFIED:20230509T130929Z
UID:2691-1685181600-1685196000@hyppeln.com
SUMMARY:Städdag med Samhällsföreningen
DESCRIPTION:Mötesplats vid Påskefyren. Medtag gärna ett gott humör\, kratta och handskar.
URL:https://hyppeln.com/kalender/staddag-med-samhallsforeningen/
ATTACH;FMTTYPE=image/jpeg:https://hyppeln.com/wp-content/uploads/2022/11/dfc45db9-056c-4fd6-9b0e-ea7e0e66ffce.jpeg
END:VEVENT
BEGIN:VEVENT
DTSTART;TZID=Europe/Stockholm:20230516T130000
DTEND;TZID=Europe/Stockholm:20230516T150000
DTSTAMP:20260422T200748
CREATED:20230325T145215Z
LAST-MODIFIED:20230414T133330Z
UID:2494-1684242000-1684249200@hyppeln.com
SUMMARY:Vårlunch i Församlingshemmet
DESCRIPTION:Välkommen till Vårlunch tillsammans med Pedda tisdag 16 maj kl 13.00.  \n\n\n\nKostnad 250 kronor.  \n\n\n\nBuffé\, kaffe\, tårta\, dryck samt underhållning ingår. \n\n\n\nAnmälan senast 2 maj till Ewa via sms 0768384552 \n\n\n\nAnmälan är bindande.
URL:https://hyppeln.com/kalender/varlunch-i-forsamlingshemmet/
ATTACH;FMTTYPE=image/jpeg:https://hyppeln.com/wp-content/uploads/2023/03/DDB4AFE4-DB4D-4A63-95FD-8C5552C32570-3823-0000009CDCD82CD3.jpeg
END:VEVENT
BEGIN:VEVENT
DTSTART;TZID=Europe/Stockholm:20230514T145000
DTEND;TZID=Europe/Stockholm:20230514T145000
DTSTAMP:20260422T200748
CREATED:20230325T144455Z
LAST-MODIFIED:20230325T145530Z
UID:2490-1684075800-1684075800@hyppeln.com
SUMMARY:Gudstjänst
DESCRIPTION:Christer Holmer\, kantor: Frederic Ogeus. \n\n\n\nAvtackning av Christer som går i pension.
URL:https://hyppeln.com/kalender/gudstjanst-2/
ATTACH;FMTTYPE=image/jpeg:https://hyppeln.com/wp-content/uploads/2023/03/DDB4AFE4-DB4D-4A63-95FD-8C5552C32570-3823-0000009CDCD82CD3.jpeg
END:VEVENT
BEGIN:VEVENT
DTSTART;TZID=Europe/Stockholm:20230513T110000
DTEND;TZID=Europe/Stockholm:20230513T140000
DTSTAMP:20260422T200748
CREATED:20230509T185604Z
LAST-MODIFIED:20230510T084911Z
UID:2696-1683975600-1683986400@hyppeln.com
SUMMARY:Nyöppning av affären
DESCRIPTION:Hökeriet på Hyppeln öppnar i ett nytt samarbete med Lilla Landet\, och blir en butik med självbetjäning. Vid nyöppningen kommer Michael David från Lilla Landet att finnas till hands för att visa hur tekniken fungerar.
URL:https://hyppeln.com/kalender/nyoppning-av-affaren/
ATTACH;FMTTYPE=image/jpeg:https://hyppeln.com/wp-content/uploads/2023/05/344473912_180942394510861_7617642449800955004_n-2.jpeg
END:VEVENT
BEGIN:VEVENT
DTSTART;TZID=Europe/Stockholm:20230513T100000
DTEND;TZID=Europe/Stockholm:20230513T140000
DTSTAMP:20260422T200748
CREATED:20230430T115932Z
LAST-MODIFIED:20230430T115933Z
UID:2649-1683972000-1683986400@hyppeln.com
SUMMARY:Vårfixa hos HIK
DESCRIPTION:Varmt välkommen att hjälpa till med att vårfixa HIK:s anläggning och lokal inför säsongen. Det är mycket som ska göras. Allt från gräsklippning och tvätt av trall och bänkbord till städ- och monteringsarbeten i lokalen. Samling 10.00 i lokalen. HIK bjuder på fika samt korv med bröd.
URL:https://hyppeln.com/kalender/varfixa-hos-hik/
ATTACH;FMTTYPE=image/jpeg:https://hyppeln.com/wp-content/uploads/2022/12/5D6E9875-99CE-46F6-8FA5-F20BB2AD42CD-scaled.jpeg
END:VEVENT
BEGIN:VEVENT
DTSTART;TZID=Europe/Stockholm:20230506T100000
DTEND;TZID=Europe/Stockholm:20230506T140000
DTSTAMP:20260422T200748
CREATED:20230430T115734Z
LAST-MODIFIED:20230430T120054Z
UID:2647-1683367200-1683381600@hyppeln.com
SUMMARY:Vårfixa hos HIK
DESCRIPTION:Varmt välkommen att hjälpa till med att vårfixa HIK:s anläggning och lokal inför säsongen. Det är mycket som ska göras. Allt från gräsklippning och tvätt av trall och bänkbord till städ- och monteringsarbeten i lokalen. Samling 10.00 i lokalen. HIK bjuder på fika samt korv med bröd.
URL:https://hyppeln.com/kalender/varfix-hos-hik/
ATTACH;FMTTYPE=image/jpeg:https://hyppeln.com/wp-content/uploads/2022/12/5D6E9875-99CE-46F6-8FA5-F20BB2AD42CD-scaled.jpeg
END:VEVENT
BEGIN:VEVENT
DTSTART;TZID=Europe/Stockholm:20230506T080000
DTEND;TZID=Europe/Stockholm:20230507T170000
DTSTAMP:20260422T200748
CREATED:20230313T111504Z
LAST-MODIFIED:20230313T111505Z
UID:2453-1683360000-1683478800@hyppeln.com
SUMMARY:Sjösättningsdagar
DESCRIPTION:Sjösättningsdagar för båtar som behöver kran. Kontakta någon av kranskötarna\, Jonas\, Anders eller Mikael om dessa datum inte fungerar. Planeringen kan påverkas av båtens placering på uppställningsplatsen.
URL:https://hyppeln.com/kalender/sjosattningsdagar-2/
ATTACH;FMTTYPE=image/jpeg:https://hyppeln.com/wp-content/uploads/2023/03/Sjosattning-Hyppeln-scaled.jpg
END:VEVENT
BEGIN:VEVENT
DTSTART;TZID=Europe/Stockholm:20230505T000000
DTEND;TZID=Europe/Stockholm:20230505T235959
DTSTAMP:20260422T200748
CREATED:20230326T104657Z
LAST-MODIFIED:20230326T104659Z
UID:2510-1683244800-1683331199@hyppeln.com
SUMMARY:Säsongsöppning Stora Oset
DESCRIPTION:Hyppelns hamnkrog Stora Oset öppnar för säsongen.
URL:https://hyppeln.com/kalender/sasongsoppning-stora-oset/
ATTACH;FMTTYPE=image/jpeg:https://hyppeln.com/wp-content/uploads/2023/03/331414733_718197793134722_3782077448265372357_n.jpeg
END:VEVENT
BEGIN:VEVENT
DTSTART;TZID=Europe/Stockholm:20230501T120000
DTEND;TZID=Europe/Stockholm:20230501T150000
DTSTAMP:20260422T200748
CREATED:20230311T114834Z
LAST-MODIFIED:20230425T155742Z
UID:2402-1682942400-1682953200@hyppeln.com
SUMMARY:Invigning av Aktivitetsplats i Viga
DESCRIPTION:Hyppelns nya attraktion för alla barn invigs. Aktivitetsplatsen i Viga har bland annat en rolig stor träbåt\, studsmatta och bänkar med bord för en mysig picnic. Första maj blir det invigning med festis\, fika och tilltugg.
URL:https://hyppeln.com/kalender/invigning-av-aktivitetsplats-i-viga/
ATTACH;FMTTYPE=image/jpeg:https://hyppeln.com/wp-content/uploads/2023/03/IMG_0576-scaled.jpeg
END:VEVENT
BEGIN:VEVENT
DTSTART;TZID=Europe/Stockholm:20230430T140000
DTEND;TZID=Europe/Stockholm:20230430T153000
DTSTAMP:20260422T200748
CREATED:20230326T172118Z
LAST-MODIFIED:20230423T160401Z
UID:2521-1682863200-1682868600@hyppeln.com
SUMMARY:Poängpromenad
DESCRIPTION:HIK arrangerar poängpromenad runt slingan på Valborg\, för både stora och små. Kom till idrottslokalen och anmäl dig och hämta ut din tipskupong 14.00. \n\n\n\n50 kronor för vuxna och 30 kronor för barn. Fina priser till ettan\, tvåan och trean i både vuxen- och barnklassen. Fikaförsäljning. Tipskupongen ska vara inlämnad senast 15:30. Då utses vinnarna. \n\n\n\nHIK hälsar alla varmt välkomna!
URL:https://hyppeln.com/kalender/poangpromenad/
ATTACH;FMTTYPE=image/jpeg:https://hyppeln.com/wp-content/uploads/2023/03/IMG_7216-scaled.jpeg
END:VEVENT
END:VCALENDAR